BEGIN:VCALENDAR
VERSION:2.0
PRODID:-//First Baptist Church - ECPv6.15.5//NONSGML v1.0//EN
CALSCALE:GREGORIAN
METHOD:PUBLISH
X-WR-CALNAME:First Baptist Church
X-ORIGINAL-URL:http://lebfirstbaptist.com
X-WR-CALDESC:Events for First Baptist Church
REFRESH-INTERVAL;VALUE=DURATION:PT1H
X-Robots-Tag:noindex
X-PUBLISHED-TTL:PT1H
BEGIN:VTIMEZONE
TZID:America/New_York
BEGIN:DAYLIGHT
TZOFFSETFROM:-0500
TZOFFSETTO:-0400
TZNAME:EDT
DTSTART:20250309T070000
END:DAYLIGHT
BEGIN:STANDARD
TZOFFSETFROM:-0400
TZOFFSETTO:-0500
TZNAME:EST
DTSTART:20251102T060000
END:STANDARD
END:VTIMEZONE
BEGIN:VEVENT
DTSTART;TZID=America/New_York:20251030T183000
DTEND;TZID=America/New_York:20251030T203000
DTSTAMP:20260425T101213
CREATED:20250924T161036Z
LAST-MODIFIED:20250924T161036Z
UID:6794-1761849000-1761856200@lebfirstbaptist.com
SUMMARY:Small Group Bible Study
DESCRIPTION:Small Group Bible Study for Adults hosted by Roger & Betsy Wotton. Contact Phone: 603-738-7096
URL:http://lebfirstbaptist.com/event/small-group-bible-study-49/
LOCATION:NH
END:VEVENT
BEGIN:VEVENT
DTSTART;TZID=America/New_York:20251030T173000
DTEND;TZID=America/New_York:20251030T190000
DTSTAMP:20260425T101213
CREATED:20250924T161410Z
LAST-MODIFIED:20250924T161410Z
UID:6804-1761845400-1761850800@lebfirstbaptist.com
SUMMARY:Millennial Small Group
DESCRIPTION:Small Group Meetings for Millennials. Contact Church Office for details: 603-448-5618
URL:http://lebfirstbaptist.com/event/millennial-small-group-13/
LOCATION:First Baptist Church of Lebanon\, 11 School Street\, Lebanon\, NH\, 03766\, United States
END:VEVENT
BEGIN:VEVENT
DTSTART;TZID=America/New_York:20251029T100000
DTEND;TZID=America/New_York:20251029T113000
DTSTAMP:20260425T101213
CREATED:20250924T155551Z
LAST-MODIFIED:20250924T155551Z
UID:6768-1761732000-1761737400@lebfirstbaptist.com
SUMMARY:Morning Women's Bible Study
DESCRIPTION:Women’s Bible Study held at 11 School Street\, Lebanon\, NH
URL:http://lebfirstbaptist.com/event/morning-womens-bible-study-5/
LOCATION:First Baptist Church of Lebanon\, 11 School Street\, Lebanon\, NH\, 03766\, United States
END:VEVENT
BEGIN:VEVENT
DTSTART;TZID=America/New_York:20251027T183000
DTEND;TZID=America/New_York:20251027T193000
DTSTAMP:20260425T101213
CREATED:20250924T155112Z
LAST-MODIFIED:20250924T155112Z
UID:6754-1761589800-1761593400@lebfirstbaptist.com
SUMMARY:Prayer Meeting
DESCRIPTION:Prayer Meetings will be held in the Sanctuary on Monday evenings.
URL:http://lebfirstbaptist.com/event/prayer-meeting-18/
LOCATION:First Baptist Church of Lebanon\, 11 School Street\, Lebanon\, NH\, 03766\, United States
END:VEVENT
BEGIN:VEVENT
DTSTART;TZID=America/New_York:20251026T103000
DTEND;TZID=America/New_York:20251026T120000
DTSTAMP:20260425T101213
CREATED:20250924T154522Z
LAST-MODIFIED:20250924T154522Z
UID:6738-1761474600-1761480000@lebfirstbaptist.com
SUMMARY:Worship Service
DESCRIPTION:
URL:http://lebfirstbaptist.com/event/worship-service-21/
LOCATION:NH
END:VEVENT
BEGIN:VEVENT
DTSTART;TZID=America/New_York:20251026T084500
DTEND;TZID=America/New_York:20251026T100000
DTSTAMP:20260425T101213
CREATED:20250924T154818Z
LAST-MODIFIED:20250924T154818Z
UID:6746-1761468300-1761472800@lebfirstbaptist.com
SUMMARY:Adult Sunday School - Bible & Breakfast
DESCRIPTION:Ecclesiastes entitled\, “A Realist’s Guide to Joy.”
URL:http://lebfirstbaptist.com/event/adult-sunday-school-bible-breakfast-4/
LOCATION:First Baptist Church of Lebanon\, 11 School Street\, Lebanon\, NH\, 03766\, United States
END:VEVENT
BEGIN:VEVENT
DTSTART;TZID=America/New_York:20251025T100000
DTEND;TZID=America/New_York:20251025T110000
DTSTAMP:20260425T101213
CREATED:20250924T161535Z
LAST-MODIFIED:20250924T161535Z
UID:6808-1761386400-1761390000@lebfirstbaptist.com
SUMMARY:Raven Box Food Pantry
DESCRIPTION:This is located at First Baptist Church: 11 School Street in Lebanon\, NH. We will be serving outside on Green Street. This is free and open to all. This is a drive-through/walk-up service. We give out one paper grocery bag of non-perishable food items per household.
URL:http://lebfirstbaptist.com/event/raven-box-food-pantry-21/
LOCATION:First Baptist Church of Lebanon\, 11 School Street\, Lebanon\, NH\, 03766\, United States
END:VEVENT
BEGIN:VEVENT
DTSTART;TZID=America/New_York:20251023T190000
DTEND;TZID=America/New_York:20251023T203000
DTSTAMP:20260425T101213
CREATED:20250924T160915Z
LAST-MODIFIED:20250924T160915Z
UID:6789-1761246000-1761251400@lebfirstbaptist.com
SUMMARY:Small Group Bible Study
DESCRIPTION:Small Group Bible Study for Adults hosted by Rick & Anne Pinilla. Contact Phone: 603-306-5570
URL:http://lebfirstbaptist.com/event/small-group-bible-study-47/
LOCATION:NH
END:VEVENT
BEGIN:VEVENT
DTSTART;TZID=America/New_York:20251023T183000
DTEND;TZID=America/New_York:20251023T203000
DTSTAMP:20260425T101213
CREATED:20250924T160334Z
LAST-MODIFIED:20250924T160334Z
UID:6781-1761244200-1761251400@lebfirstbaptist.com
SUMMARY:Small Group Bible Study
DESCRIPTION:Small Group Bible Study for Adults hosted by Roger & Betsy Wotton. Contact Phone: 603-738-7096
URL:http://lebfirstbaptist.com/event/small-group-bible-study-43/
LOCATION:NH
END:VEVENT
BEGIN:VEVENT
DTSTART;TZID=America/New_York:20251023T173000
DTEND;TZID=America/New_York:20251023T190000
DTSTAMP:20260425T101213
CREATED:20250924T161337Z
LAST-MODIFIED:20250924T161337Z
UID:6802-1761240600-1761246000@lebfirstbaptist.com
SUMMARY:Millennial Small Group
DESCRIPTION:Small Group Meetings for Millennials. Contact Church Office for details: 603-448-5618
URL:http://lebfirstbaptist.com/event/millennial-small-group-12/
LOCATION:First Baptist Church of Lebanon\, 11 School Street\, Lebanon\, NH\, 03766\, United States
END:VEVENT
BEGIN:VEVENT
DTSTART;TZID=America/New_York:20251022T100000
DTEND;TZID=America/New_York:20251022T113000
DTSTAMP:20260425T101213
CREATED:20250924T155521Z
LAST-MODIFIED:20250924T155521Z
UID:6766-1761127200-1761132600@lebfirstbaptist.com
SUMMARY:Morning Women's Bible Study
DESCRIPTION:Women’s Bible Study held at 11 School Street\, Lebanon\, NH
URL:http://lebfirstbaptist.com/event/morning-womens-bible-study-4/
LOCATION:First Baptist Church of Lebanon\, 11 School Street\, Lebanon\, NH\, 03766\, United States
END:VEVENT
BEGIN:VEVENT
DTSTART;TZID=America/New_York:20251021T180000
DTEND;TZID=America/New_York:20251021T190000
DTSTAMP:20260425T101213
CREATED:20250924T155247Z
LAST-MODIFIED:20250924T155247Z
UID:6758-1761069600-1761073200@lebfirstbaptist.com
SUMMARY:Evening Women's Bible Study
DESCRIPTION:Women’s Bible Study held at 11 School Street\, Lebanon\, NH
URL:http://lebfirstbaptist.com/event/evening-womens-bible-study-2/
LOCATION:First Baptist Church of Lebanon\, 11 School Street\, Lebanon\, NH\, 03766\, United States
END:VEVENT
BEGIN:VEVENT
DTSTART;TZID=America/New_York:20251020T183000
DTEND;TZID=America/New_York:20251020T193000
DTSTAMP:20260425T101213
CREATED:20250924T155033Z
LAST-MODIFIED:20250924T155033Z
UID:6752-1760985000-1760988600@lebfirstbaptist.com
SUMMARY:Prayer Meeting
DESCRIPTION:Prayer Meetings will be held in the Sanctuary on Monday evenings.
URL:http://lebfirstbaptist.com/event/prayer-meeting-17/
LOCATION:First Baptist Church of Lebanon\, 11 School Street\, Lebanon\, NH\, 03766\, United States
END:VEVENT
BEGIN:VEVENT
DTSTART;TZID=America/New_York:20251019T170000
DTEND;TZID=America/New_York:20251019T181500
DTSTAMP:20260425T101213
CREATED:20250924T155720Z
LAST-MODIFIED:20250924T155720Z
UID:6770-1760893200-1760897700@lebfirstbaptist.com
SUMMARY:Community Dinner
DESCRIPTION:To Go Community Dinners are served the Second Sunday of each month. You may stay and eat at the church if you would like. Held at 11 School Street in Lebanon\, NH.
URL:http://lebfirstbaptist.com/event/community-dinner-8/
LOCATION:First Baptist Church of Lebanon\, 11 School Street\, Lebanon\, NH\, 03766\, United States
END:VEVENT
BEGIN:VEVENT
DTSTART;TZID=America/New_York:20251019T103000
DTEND;TZID=America/New_York:20251019T120000
DTSTAMP:20260425T101213
CREATED:20250924T154457Z
LAST-MODIFIED:20250924T154457Z
UID:6736-1760869800-1760875200@lebfirstbaptist.com
SUMMARY:Worship Service
DESCRIPTION:
URL:http://lebfirstbaptist.com/event/worship-service-20/
LOCATION:First Baptist Church of Lebanon\, 11 School Street\, Lebanon\, NH\, 03766\, United States
END:VEVENT
BEGIN:VEVENT
DTSTART;TZID=America/New_York:20251019T084500
DTEND;TZID=America/New_York:20251019T100000
DTSTAMP:20260425T101213
CREATED:20250924T154745Z
LAST-MODIFIED:20250924T154745Z
UID:6744-1760863500-1760868000@lebfirstbaptist.com
SUMMARY:Adult Sunday School - Bible & Breakfast
DESCRIPTION:Ecclesiastes entitled\, “A Realist’s Guide to Joy.”
URL:http://lebfirstbaptist.com/event/adult-sunday-school-bible-breakfast-3/
LOCATION:First Baptist Church of Lebanon\, 11 School Street\, Lebanon\, NH\, 03766\, United States
END:VEVENT
BEGIN:VEVENT
DTSTART;TZID=America/New_York:20251018T120000
DTEND;TZID=America/New_York:20251018T140000
DTSTAMP:20260425T101213
CREATED:20250924T161715Z
LAST-MODIFIED:20250924T161715Z
UID:6810-1760788800-1760796000@lebfirstbaptist.com
SUMMARY:Fall Family Fun Festival
DESCRIPTION:This free event open to all is held at Colburn Park in Lebanon\, NH. Join us for games\, food\, face painting\, pumpkin carving\, and more!
URL:http://lebfirstbaptist.com/event/fall-family-fun-festival/
LOCATION:NH
END:VEVENT
BEGIN:VEVENT
DTSTART;TZID=America/New_York:20251016T190000
DTEND;TZID=America/New_York:20251016T203000
DTSTAMP:20260425T101213
CREATED:20250924T160814Z
LAST-MODIFIED:20250924T160814Z
UID:6787-1760641200-1760646600@lebfirstbaptist.com
SUMMARY:Small Group Bible Study
DESCRIPTION:Small Group Bible Study for Adults hosted by Rick & Anne Pinilla. Contact Phone: 603-306-5570
URL:http://lebfirstbaptist.com/event/small-group-bible-study-46/
LOCATION:NH
END:VEVENT
BEGIN:VEVENT
DTSTART;TZID=America/New_York:20251016T183000
DTEND;TZID=America/New_York:20251016T203000
DTSTAMP:20260425T101213
CREATED:20250924T160244Z
LAST-MODIFIED:20250924T160424Z
UID:6778-1760639400-1760646600@lebfirstbaptist.com
SUMMARY:Small Group Bible Study
DESCRIPTION:Small Group Bible Study for Adults hosted by Roger & Betsy Wotton. Contact Phone: 603-738-7096
URL:http://lebfirstbaptist.com/event/small-group-bible-study-42/
LOCATION:NH
END:VEVENT
BEGIN:VEVENT
DTSTART;TZID=America/New_York:20251016T173000
DTEND;TZID=America/New_York:20251016T190000
DTSTAMP:20260425T101213
CREATED:20250924T161301Z
LAST-MODIFIED:20250924T161301Z
UID:6800-1760635800-1760641200@lebfirstbaptist.com
SUMMARY:Millennial Small Group
DESCRIPTION:Small Group Meetings for Millennials. Contact Church Office for details: 603-448-5618
URL:http://lebfirstbaptist.com/event/millennial-small-group-11/
LOCATION:First Baptist Church of Lebanon\, 11 School Street\, Lebanon\, NH\, 03766\, United States
END:VEVENT
BEGIN:VEVENT
DTSTART;TZID=America/New_York:20251015T100000
DTEND;TZID=America/New_York:20251015T113000
DTSTAMP:20260425T101213
CREATED:20250924T155435Z
LAST-MODIFIED:20250924T155435Z
UID:6764-1760522400-1760527800@lebfirstbaptist.com
SUMMARY:Morning Women's Bible Study
DESCRIPTION:Women’s Bible Study held at 11 School Street\, Lebanon\, NH
URL:http://lebfirstbaptist.com/event/morning-womens-bible-study-3/
LOCATION:First Baptist Church of Lebanon\, 11 School Street\, Lebanon\, NH\, 03766\, United States
END:VEVENT
BEGIN:VEVENT
DTSTART;TZID=America/New_York:20251013T183000
DTEND;TZID=America/New_York:20251013T193000
DTSTAMP:20260425T101213
CREATED:20250924T154952Z
LAST-MODIFIED:20250924T154952Z
UID:6750-1760380200-1760383800@lebfirstbaptist.com
SUMMARY:Prayer Meeting
DESCRIPTION:Prayer Meetings will be held in the Sanctuary on Monday evenings.
URL:http://lebfirstbaptist.com/event/prayer-meeting-16/
LOCATION:First Baptist Church of Lebanon\, 11 School Street\, Lebanon\, NH\, 03766\, United States
END:VEVENT
BEGIN:VEVENT
DTSTART;TZID=America/New_York:20251012T123000
DTEND;TZID=America/New_York:20251012T140000
DTSTAMP:20260425T101213
CREATED:20250924T155828Z
LAST-MODIFIED:20250924T155828Z
UID:6772-1760272200-1760277600@lebfirstbaptist.com
SUMMARY:Luncheon
DESCRIPTION:A Fellowship Luncheon will be held following the Worship Service. Please stay and enjoy a time of fellowship and good food.
URL:http://lebfirstbaptist.com/event/luncheon/
LOCATION:First Baptist Church of Lebanon\, 11 School Street\, Lebanon\, NH\, 03766\, United States
END:VEVENT
BEGIN:VEVENT
DTSTART;TZID=America/New_York:20251012T103000
DTEND;TZID=America/New_York:20251012T120000
DTSTAMP:20260425T101213
CREATED:20250924T154428Z
LAST-MODIFIED:20250924T154428Z
UID:6734-1760265000-1760270400@lebfirstbaptist.com
SUMMARY:Worship Service
DESCRIPTION:
URL:http://lebfirstbaptist.com/event/worship-service-19/
LOCATION:First Baptist Church of Lebanon\, 11 School Street\, Lebanon\, NH\, 03766\, United States
END:VEVENT
BEGIN:VEVENT
DTSTART;TZID=America/New_York:20251012T084500
DTEND;TZID=America/New_York:20251012T100000
DTSTAMP:20260425T101213
CREATED:20250924T154708Z
LAST-MODIFIED:20250924T154708Z
UID:6742-1760258700-1760263200@lebfirstbaptist.com
SUMMARY:Adult Sunday School - Bible & Breakfast
DESCRIPTION:Ecclesiastes entitled\, “A Realist’s Guide to Joy.”
URL:http://lebfirstbaptist.com/event/adult-sunday-school-bible-breakfast-2/
LOCATION:First Baptist Church of Lebanon\, 11 School Street\, Lebanon\, NH\, 03766\, United States
END:VEVENT
BEGIN:VEVENT
DTSTART;TZID=America/New_York:20251011T100000
DTEND;TZID=America/New_York:20251011T110000
DTSTAMP:20260425T101213
CREATED:20250924T161506Z
LAST-MODIFIED:20250924T161506Z
UID:6806-1760176800-1760180400@lebfirstbaptist.com
SUMMARY:Raven Box Food Pantry
DESCRIPTION:This is located at First Baptist Church: 11 School Street in Lebanon\, NH. We will be serving outside on Green Street. This is free and open to all. This is a drive-through/walk-up service. We give out one paper grocery bag of non-perishable food items per household.
URL:http://lebfirstbaptist.com/event/raven-box-food-pantry-20/
LOCATION:First Baptist Church of Lebanon\, 11 School Street\, Lebanon\, NH\, 03766\, United States
END:VEVENT
BEGIN:VEVENT
DTSTART;TZID=America/New_York:20251009T190000
DTEND;TZID=America/New_York:20251009T203000
DTSTAMP:20260425T101213
CREATED:20250924T160743Z
LAST-MODIFIED:20250924T160743Z
UID:6785-1760036400-1760041800@lebfirstbaptist.com
SUMMARY:Small Group Bible Study
DESCRIPTION:Small Group Bible Study for Adults hosted by Rick & Anne Pinilla. Contact Phone: 603-306-5570
URL:http://lebfirstbaptist.com/event/small-group-bible-study-45/
LOCATION:NH
END:VEVENT
BEGIN:VEVENT
DTSTART;TZID=America/New_York:20251009T183000
DTEND;TZID=America/New_York:20251009T203000
DTSTAMP:20260425T101213
CREATED:20250924T160125Z
LAST-MODIFIED:20250924T160452Z
UID:6776-1760034600-1760041800@lebfirstbaptist.com
SUMMARY:Small Group Bible Study
DESCRIPTION:Small Group Bible Study for Adults hosted by Roger & Betsy Wotton. Contact Phone: 603-738-7096
URL:http://lebfirstbaptist.com/event/small-group-bible-study-41/
LOCATION:NH
END:VEVENT
BEGIN:VEVENT
DTSTART;TZID=America/New_York:20251009T173000
DTEND;TZID=America/New_York:20251009T190000
DTSTAMP:20260425T101213
CREATED:20250924T161212Z
LAST-MODIFIED:20250924T161212Z
UID:6798-1760031000-1760036400@lebfirstbaptist.com
SUMMARY:Millennial Small Group
DESCRIPTION:Small Group Meetings for Millennials. Contact Church Office for details: 603-448-5618
URL:http://lebfirstbaptist.com/event/millennial-small-group-10/
LOCATION:First Baptist Church of Lebanon\, 11 School Street\, Lebanon\, NH\, 03766\, United States
END:VEVENT
BEGIN:VEVENT
DTSTART;TZID=America/New_York:20251008T100000
DTEND;TZID=America/New_York:20251008T113000
DTSTAMP:20260425T101213
CREATED:20250924T155407Z
LAST-MODIFIED:20250924T155407Z
UID:6762-1759917600-1759923000@lebfirstbaptist.com
SUMMARY:Morning Women's Bible Study
DESCRIPTION:Women’s Bible Study held at 11 School Street\, Lebanon\, NH
URL:http://lebfirstbaptist.com/event/morning-womens-bible-study-2/
LOCATION:First Baptist Church of Lebanon\, 11 School Street\, Lebanon\, NH\, 03766\, United States
END:VEVENT
END:VCALENDAR