BEGIN:VCALENDAR
VERSION:2.0
PRODID:-//First Baptist Church - ECPv6.15.5//NONSGML v1.0//EN
CALSCALE:GREGORIAN
METHOD:PUBLISH
X-WR-CALNAME:First Baptist Church
X-ORIGINAL-URL:http://lebfirstbaptist.com
X-WR-CALDESC:Events for First Baptist Church
REFRESH-INTERVAL;VALUE=DURATION:PT1H
X-Robots-Tag:noindex
X-PUBLISHED-TTL:PT1H
BEGIN:VTIMEZONE
TZID:America/New_York
BEGIN:DAYLIGHT
TZOFFSETFROM:-0500
TZOFFSETTO:-0400
TZNAME:EDT
DTSTART:20250309T070000
END:DAYLIGHT
BEGIN:STANDARD
TZOFFSETFROM:-0400
TZOFFSETTO:-0500
TZNAME:EST
DTSTART:20251102T060000
END:STANDARD
END:VTIMEZONE
BEGIN:VEVENT
DTSTART;TZID=America/New_York:20250922T183000
DTEND;TZID=America/New_York:20250922T193000
DTSTAMP:20260425T081604
CREATED:20250827T155126Z
LAST-MODIFIED:20250827T155126Z
UID:6694-1758565800-1758569400@lebfirstbaptist.com
SUMMARY:Prayer Meeting
DESCRIPTION:Prayer Meetings will be held in the Sanctuary on Monday evenings.
URL:http://lebfirstbaptist.com/event/prayer-meeting-13/
LOCATION:First Baptist Church of Lebanon\, 11 School Street\, Lebanon\, NH\, 03766\, United States
END:VEVENT
BEGIN:VEVENT
DTSTART;TZID=America/New_York:20250921T103000
DTEND;TZID=America/New_York:20250921T120000
DTSTAMP:20260425T081604
CREATED:20250827T154732Z
LAST-MODIFIED:20250827T160853Z
UID:6684-1758450600-1758456000@lebfirstbaptist.com
SUMMARY:Worship Service
DESCRIPTION:We will have Teen Challenge visiting this Sunday. Please join us for this special service.
URL:http://lebfirstbaptist.com/event/worship-service-16/
LOCATION:First Baptist Church of Lebanon\, 11 School Street\, Lebanon\, NH\, 03766\, United States
END:VEVENT
BEGIN:VEVENT
DTSTART;TZID=America/New_York:20250921T084500
DTEND;TZID=America/New_York:20250921T100000
DTSTAMP:20260425T081604
CREATED:20250827T154349Z
LAST-MODIFIED:20250827T154349Z
UID:6678-1758444300-1758448800@lebfirstbaptist.com
SUMMARY:Adult Sunday School – Bible and Breakfast
DESCRIPTION:Ecclesiastes entitled\, “A Realist’s Guide to Joy.”
URL:http://lebfirstbaptist.com/event/adult-sunday-school-bible-and-breakfast-2/
LOCATION:First Baptist Church of Lebanon\, 11 School Street\, Lebanon\, NH\, 03766\, United States
END:VEVENT
BEGIN:VEVENT
DTSTART;TZID=America/New_York:20250918T173000
DTEND;TZID=America/New_York:20250918T190000
DTSTAMP:20260425T081604
CREATED:20250827T160402Z
LAST-MODIFIED:20250827T160402Z
UID:6714-1758216600-1758222000@lebfirstbaptist.com
SUMMARY:Millennial Small Group
DESCRIPTION:Small Group Meetings for Millennials. Contact Church Office for details: 603-448-5618
URL:http://lebfirstbaptist.com/event/millennial-small-group-7/
LOCATION:First Baptist Church of Lebanon\, 11 School Street\, Lebanon\, NH\, 03766\, United States
END:VEVENT
BEGIN:VEVENT
DTSTART;TZID=America/New_York:20250917T100000
DTEND;TZID=America/New_York:20250917T113000
DTSTAMP:20260425T081604
CREATED:20250827T160048Z
LAST-MODIFIED:20250827T160048Z
UID:6706-1758103200-1758108600@lebfirstbaptist.com
SUMMARY:Women's Bible Study
DESCRIPTION:Women’s Bible Study held at 11 School Street\, Lebanon\, NH
URL:http://lebfirstbaptist.com/event/womens-bible-study-29/
LOCATION:First Baptist Church of Lebanon\, 11 School Street\, Lebanon\, NH\, 03766\, United States
END:VEVENT
BEGIN:VEVENT
DTSTART;TZID=America/New_York:20250915T183000
DTEND;TZID=America/New_York:20250915T193000
DTSTAMP:20260425T081604
CREATED:20250827T155045Z
LAST-MODIFIED:20250827T155045Z
UID:6692-1757961000-1757964600@lebfirstbaptist.com
SUMMARY:Prayer Meeting
DESCRIPTION:Prayer Meetings will be held in the Sanctuary on Monday evenings.
URL:http://lebfirstbaptist.com/event/prayer-meeting-12/
LOCATION:First Baptist Church of Lebanon\, 11 School Street\, Lebanon\, NH\, 03766\, United States
END:VEVENT
BEGIN:VEVENT
DTSTART;TZID=America/New_York:20250914T103000
DTEND;TZID=America/New_York:20250914T120000
DTSTAMP:20260425T081604
CREATED:20250827T154658Z
LAST-MODIFIED:20250827T154658Z
UID:6682-1757845800-1757851200@lebfirstbaptist.com
SUMMARY:Worship Service
DESCRIPTION:
URL:http://lebfirstbaptist.com/event/worship-service-15/
LOCATION:First Baptist Church of Lebanon\, 11 School Street\, Lebanon\, NH\, 03766\, United States
END:VEVENT
BEGIN:VEVENT
DTSTART;TZID=America/New_York:20250914T084500
DTEND;TZID=America/New_York:20250914T100000
DTSTAMP:20260425T081604
CREATED:20250827T154240Z
LAST-MODIFIED:20250827T154240Z
UID:6676-1757839500-1757844000@lebfirstbaptist.com
SUMMARY:Adult Sunday School - Bible and Breakfast
DESCRIPTION:Ecclesiastes entitled\, “A Realist’s Guide to Joy.” \n 
URL:http://lebfirstbaptist.com/event/adult-sunday-school-bible-and-breakfast/
LOCATION:First Baptist Church of Lebanon\, 11 School Street\, Lebanon\, NH\, 03766\, United States
END:VEVENT
BEGIN:VEVENT
DTSTART;TZID=America/New_York:20250913T100000
DTEND;TZID=America/New_York:20250913T110000
DTSTAMP:20260425T081604
CREATED:20250827T160730Z
LAST-MODIFIED:20250827T160730Z
UID:6722-1757757600-1757761200@lebfirstbaptist.com
SUMMARY:Raven Box Food Pantry
DESCRIPTION:This is located at First Baptist Church: 11 School Street in Lebanon\, NH. We will be serving outside on Green Street. This is free and open to all. This is a drive-through/walk-up service. We give out one paper grocery bag of non-perishable food items per household.
URL:http://lebfirstbaptist.com/event/raven-box-food-pantry-18/
LOCATION:First Baptist Church of Lebanon\, 11 School Street\, Lebanon\, NH\, 03766\, United States
END:VEVENT
BEGIN:VEVENT
DTSTART;TZID=America/New_York:20250911T173000
DTEND;TZID=America/New_York:20250911T190000
DTSTAMP:20260425T081604
CREATED:20250827T160327Z
LAST-MODIFIED:20250827T160327Z
UID:6712-1757611800-1757617200@lebfirstbaptist.com
SUMMARY:Millennial Small Group
DESCRIPTION:Small Group Meetings for Millennials. Contact Church Office for details: 603-448-5618
URL:http://lebfirstbaptist.com/event/millennial-small-group-6/
LOCATION:First Baptist Church of Lebanon\, 11 School Street\, Lebanon\, NH\, 03766\, United States
END:VEVENT
BEGIN:VEVENT
DTSTART;TZID=America/New_York:20250910T100000
DTEND;TZID=America/New_York:20250910T113000
DTSTAMP:20260425T081604
CREATED:20250827T160018Z
LAST-MODIFIED:20250827T160018Z
UID:6704-1757498400-1757503800@lebfirstbaptist.com
SUMMARY:Women's Bible Study
DESCRIPTION:Women’s Bible Study held at 11 School Street\, Lebanon\, NH
URL:http://lebfirstbaptist.com/event/womens-bible-study-28/
LOCATION:First Baptist Church of Lebanon\, 11 School Street\, Lebanon\, NH\, 03766\, United States
END:VEVENT
BEGIN:VEVENT
DTSTART;TZID=America/New_York:20250909T180000
DTEND;TZID=America/New_York:20250909T190000
DTSTAMP:20260425T081604
CREATED:20250827T155803Z
LAST-MODIFIED:20250827T155803Z
UID:6698-1757440800-1757444400@lebfirstbaptist.com
SUMMARY:Women's Bible Study
DESCRIPTION:Women’s Bible Study held at 11 School Street\, Lebanon\, NH
URL:http://lebfirstbaptist.com/event/womens-bible-study-25/
LOCATION:First Baptist Church of Lebanon\, 11 School Street\, Lebanon\, NH\, 03766\, United States
END:VEVENT
BEGIN:VEVENT
DTSTART;TZID=America/New_York:20250908T183000
DTEND;TZID=America/New_York:20250908T193000
DTSTAMP:20260425T081604
CREATED:20250827T154939Z
LAST-MODIFIED:20250827T154939Z
UID:6690-1757356200-1757359800@lebfirstbaptist.com
SUMMARY:Prayer Meeting
DESCRIPTION:Prayer Meetings will be held in the Sanctuary on Monday evenings.
URL:http://lebfirstbaptist.com/event/prayer-meeting-11/
LOCATION:First Baptist Church of Lebanon\, 11 School Street\, Lebanon\, NH\, 03766\, United States
END:VEVENT
BEGIN:VEVENT
DTSTART;TZID=America/New_York:20250907T103000
DTEND;TZID=America/New_York:20250907T120000
DTSTAMP:20260425T081604
CREATED:20250827T154023Z
LAST-MODIFIED:20250827T154023Z
UID:6674-1757241000-1757246400@lebfirstbaptist.com
SUMMARY:Worship Service - Rally Day
DESCRIPTION:Rally Day is the start of our Fall Sunday School Program
URL:http://lebfirstbaptist.com/event/worship-service-rally-day/
LOCATION:First Baptist Church of Lebanon\, 11 School Street\, Lebanon\, NH\, 03766\, United States
END:VEVENT
BEGIN:VEVENT
DTSTART;TZID=America/New_York:20250904T183000
DTEND;TZID=America/New_York:20250904T203000
DTSTAMP:20260425T081604
CREATED:20250827T160530Z
LAST-MODIFIED:20250827T160530Z
UID:6718-1757010600-1757017800@lebfirstbaptist.com
SUMMARY:Small Group Bible Study
DESCRIPTION:Small Group Bible Study for Adults. Contact number: 603-738-7096
URL:http://lebfirstbaptist.com/event/small-group-bible-study-38/
LOCATION:NH
END:VEVENT
BEGIN:VEVENT
DTSTART;TZID=America/New_York:20250904T173000
DTEND;TZID=America/New_York:20250904T190000
DTSTAMP:20260425T081604
CREATED:20250827T160243Z
LAST-MODIFIED:20250827T160243Z
UID:6710-1757007000-1757012400@lebfirstbaptist.com
SUMMARY:Millennial Small Group
DESCRIPTION:Small Group Meetings for Millennials. Contact Church Office for details: 603-448-5618
URL:http://lebfirstbaptist.com/event/millennial-small-group-5/
LOCATION:First Baptist Church of Lebanon\, 11 School Street\, Lebanon\, NH\, 03766\, United States
END:VEVENT
BEGIN:VEVENT
DTSTART;TZID=America/New_York:20250903T100000
DTEND;TZID=America/New_York:20250903T113000
DTSTAMP:20260425T081604
CREATED:20250827T155948Z
LAST-MODIFIED:20250827T155948Z
UID:6702-1756893600-1756899000@lebfirstbaptist.com
SUMMARY:Women's Bible Study
DESCRIPTION:Women’s Bible Study held at 11 School Street\, Lebanon\, NH
URL:http://lebfirstbaptist.com/event/womens-bible-study-27/
LOCATION:First Baptist Church of Lebanon\, 11 School Street\, Lebanon\, NH\, 03766\, United States
END:VEVENT
BEGIN:VEVENT
DTSTART;TZID=America/New_York:20250901T183000
DTEND;TZID=America/New_York:20250901T193000
DTSTAMP:20260425T081604
CREATED:20250827T154905Z
LAST-MODIFIED:20250827T154905Z
UID:6688-1756751400-1756755000@lebfirstbaptist.com
SUMMARY:Prayer Meeting
DESCRIPTION:Prayer Meetings will be held in the Sanctuary on Monday evenings.
URL:http://lebfirstbaptist.com/event/prayer-meeting-10/
LOCATION:First Baptist Church of Lebanon\, 11 School Street\, Lebanon\, NH\, 03766\, United States
END:VEVENT
BEGIN:VEVENT
DTSTART;TZID=America/New_York:20250831T103000
DTEND;TZID=America/New_York:20250831T120000
DTSTAMP:20260425T081604
CREATED:20250714T155637Z
LAST-MODIFIED:20250714T155637Z
UID:6623-1756636200-1756641600@lebfirstbaptist.com
SUMMARY:Worship Service
DESCRIPTION:
URL:http://lebfirstbaptist.com/event/worship-service-14/
LOCATION:First Baptist Church of Lebanon\, 11 School Street\, Lebanon\, NH\, 03766\, United States
END:VEVENT
BEGIN:VEVENT
DTSTART;TZID=America/New_York:20250828T183000
DTEND;TZID=America/New_York:20250828T203000
DTSTAMP:20260425T081604
CREATED:20250714T161439Z
LAST-MODIFIED:20250714T161439Z
UID:6643-1756405800-1756413000@lebfirstbaptist.com
SUMMARY:Small Group Bible Study
DESCRIPTION:Small Group Bible Study for Adults. Contact number: 603-738-7096
URL:http://lebfirstbaptist.com/event/small-group-bible-study-37/
LOCATION:NH
END:VEVENT
BEGIN:VEVENT
DTSTART;TZID=America/New_York:20250828T173000
DTEND;TZID=America/New_York:20250828T193000
DTSTAMP:20260425T081604
CREATED:20250714T161947Z
LAST-MODIFIED:20250714T161947Z
UID:6651-1756402200-1756409400@lebfirstbaptist.com
SUMMARY:Millennial Small Group
DESCRIPTION:Small Group Meetings for Millennials. Contact Church Office for details: 603-448-5618
URL:http://lebfirstbaptist.com/event/millennial-small-group-4/
LOCATION:NH
END:VEVENT
BEGIN:VEVENT
DTSTART;TZID=America/New_York:20250827T100000
DTEND;TZID=America/New_York:20250827T113000
DTSTAMP:20260425T081604
CREATED:20250806T160529Z
LAST-MODIFIED:20250806T160529Z
UID:6669-1756288800-1756294200@lebfirstbaptist.com
SUMMARY:Women's Bible Study
DESCRIPTION:Women’s Bible Study held at 11 School Street\, Lebanon\, NH
URL:http://lebfirstbaptist.com/event/womens-bible-study-24/
LOCATION:First Baptist Church of Lebanon\, 11 School Street\, Lebanon\, NH\, 03766\, United States
END:VEVENT
BEGIN:VEVENT
DTSTART;TZID=America/New_York:20250825T183000
DTEND;TZID=America/New_York:20250825T193000
DTSTAMP:20260425T081604
CREATED:20250714T160433Z
LAST-MODIFIED:20250714T160433Z
UID:6631-1756146600-1756150200@lebfirstbaptist.com
SUMMARY:Prayer Meeting
DESCRIPTION:Prayer Meetings will be held in the Sanctuary on Monday evenings.
URL:http://lebfirstbaptist.com/event/prayer-meeting-9/
LOCATION:First Baptist Church of Lebanon\, 11 School Street\, Lebanon\, NH\, 03766\, United States
END:VEVENT
BEGIN:VEVENT
DTSTART;TZID=America/New_York:20250824T103000
DTEND;TZID=America/New_York:20250824T120000
DTSTAMP:20260425T081604
CREATED:20250714T155553Z
LAST-MODIFIED:20250714T160039Z
UID:6621-1756031400-1756036800@lebfirstbaptist.com
SUMMARY:Worship Service
DESCRIPTION:
URL:http://lebfirstbaptist.com/event/worship-service-13/
LOCATION:First Baptist Church of Lebanon\, 11 School Street\, Lebanon\, NH\, 03766\, United States
END:VEVENT
BEGIN:VEVENT
DTSTART;TZID=America/New_York:20250823T100000
DTEND;TZID=America/New_York:20250823T110000
DTSTAMP:20260425T081604
CREATED:20250714T162401Z
LAST-MODIFIED:20250714T162401Z
UID:6657-1755943200-1755946800@lebfirstbaptist.com
SUMMARY:Raven Box Food Pantry
DESCRIPTION:This is located at First Baptist Church: 11 School Street in Lebanon\, NH. We will be serving outside on Green Street. This is free and open to all. This is a drive-through/walk-up service. We give out one paper grocery bag of non-perishable food items per household.
URL:http://lebfirstbaptist.com/event/raven-box-food-pantry-17/
LOCATION:First Baptist Church of Lebanon\, 11 School Street\, Lebanon\, NH\, 03766\, United States
END:VEVENT
BEGIN:VEVENT
DTSTART;TZID=America/New_York:20250821T183000
DTEND;TZID=America/New_York:20250821T203000
DTSTAMP:20260425T081604
CREATED:20250714T161356Z
LAST-MODIFIED:20250714T161356Z
UID:6641-1755801000-1755808200@lebfirstbaptist.com
SUMMARY:Small Group Bible Study
DESCRIPTION:Small Group Bible Study for Adults. Contact number: 603-738-7096
URL:http://lebfirstbaptist.com/event/small-group-bible-study-36/
LOCATION:NH
END:VEVENT
BEGIN:VEVENT
DTSTART;TZID=America/New_York:20250821T173000
DTEND;TZID=America/New_York:20250821T193000
DTSTAMP:20260425T081604
CREATED:20250714T161900Z
LAST-MODIFIED:20250714T161900Z
UID:6649-1755797400-1755804600@lebfirstbaptist.com
SUMMARY:Millennial Small Group
DESCRIPTION:Small Group Meetings for Millennials. Contact Church Office for details: 603-448-5618
URL:http://lebfirstbaptist.com/event/millennial-small-group-3/
LOCATION:NH
END:VEVENT
BEGIN:VEVENT
DTSTART;TZID=America/New_York:20250820T170000
DTEND;TZID=America/New_York:20250820T190000
DTSTAMP:20260425T081604
CREATED:20250714T162156Z
LAST-MODIFIED:20250714T162156Z
UID:6653-1755709200-1755716400@lebfirstbaptist.com
SUMMARY:Family Fun Festival
DESCRIPTION:Family Fun Festival is a Community Event held at Colburn Park in Lebanon\, NH. We will have games\, food\, and fun things planned. We hope to see you there! Contact the Church Office at 603-448-5618 for more information.
URL:http://lebfirstbaptist.com/event/family-fun-festival/
LOCATION:NH
END:VEVENT
BEGIN:VEVENT
DTSTART;TZID=America/New_York:20250820T100000
DTEND;TZID=America/New_York:20250820T113000
DTSTAMP:20260425T081604
CREATED:20250806T160449Z
LAST-MODIFIED:20250806T160449Z
UID:6667-1755684000-1755689400@lebfirstbaptist.com
SUMMARY:Women's Bible Study
DESCRIPTION:Women’s Bible Study held at 11 School Street\, Lebanon\, NH
URL:http://lebfirstbaptist.com/event/womens-bible-study-23/
LOCATION:First Baptist Church of Lebanon\, 11 School Street\, Lebanon\, NH\, 03766\, United States
END:VEVENT
BEGIN:VEVENT
DTSTART;TZID=America/New_York:20250818T183000
DTEND;TZID=America/New_York:20250818T193000
DTSTAMP:20260425T081604
CREATED:20250714T160343Z
LAST-MODIFIED:20250714T160343Z
UID:6629-1755541800-1755545400@lebfirstbaptist.com
SUMMARY:Prayer Meeting
DESCRIPTION:Prayer Meetings will be held in the Sanctuary on Monday evenings.
URL:http://lebfirstbaptist.com/event/prayer-meeting-8/
LOCATION:First Baptist Church of Lebanon\, 11 School Street\, Lebanon\, NH\, 03766\, United States
END:VEVENT
END:VCALENDAR