BEGIN:VCALENDAR
VERSION:2.0
PRODID:-//First Baptist Church - ECPv6.15.5//NONSGML v1.0//EN
CALSCALE:GREGORIAN
METHOD:PUBLISH
X-WR-CALNAME:First Baptist Church
X-ORIGINAL-URL:http://lebfirstbaptist.com
X-WR-CALDESC:Events for First Baptist Church
REFRESH-INTERVAL;VALUE=DURATION:PT1H
X-Robots-Tag:noindex
X-PUBLISHED-TTL:PT1H
BEGIN:VTIMEZONE
TZID:America/New_York
BEGIN:DAYLIGHT
TZOFFSETFROM:-0500
TZOFFSETTO:-0400
TZNAME:EDT
DTSTART:20250309T070000
END:DAYLIGHT
BEGIN:STANDARD
TZOFFSETFROM:-0400
TZOFFSETTO:-0500
TZNAME:EST
DTSTART:20251102T060000
END:STANDARD
END:VTIMEZONE
BEGIN:VEVENT
DTSTART;TZID=America/New_York:20250818T183000
DTEND;TZID=America/New_York:20250818T193000
DTSTAMP:20260425T065435
CREATED:20250714T160343Z
LAST-MODIFIED:20250714T160343Z
UID:6629-1755541800-1755545400@lebfirstbaptist.com
SUMMARY:Prayer Meeting
DESCRIPTION:Prayer Meetings will be held in the Sanctuary on Monday evenings.
URL:http://lebfirstbaptist.com/event/prayer-meeting-8/
LOCATION:First Baptist Church of Lebanon\, 11 School Street\, Lebanon\, NH\, 03766\, United States
END:VEVENT
BEGIN:VEVENT
DTSTART;TZID=America/New_York:20250817T170000
DTEND;TZID=America/New_York:20250817T181500
DTSTAMP:20260425T065435
CREATED:20250714T160615Z
LAST-MODIFIED:20250805T155636Z
UID:6633-1755450000-1755454500@lebfirstbaptist.com
SUMMARY:Community Dinner
DESCRIPTION:To Go Community Dinners are served the Second Sunday of each month. You may stay and eat at the church if you would like. Held at 11 School Street in Lebanon\, NH.
URL:http://lebfirstbaptist.com/event/community-dinner-7/
LOCATION:First Baptist Church of Lebanon\, 11 School Street\, Lebanon\, NH\, 03766\, United States
END:VEVENT
BEGIN:VEVENT
DTSTART;TZID=America/New_York:20250817T103000
DTEND;TZID=America/New_York:20250817T120000
DTSTAMP:20260425T065435
CREATED:20250714T155502Z
LAST-MODIFIED:20250714T155502Z
UID:6619-1755426600-1755432000@lebfirstbaptist.com
SUMMARY:Worship Service
DESCRIPTION:
URL:http://lebfirstbaptist.com/event/worship-service-12/
LOCATION:First Baptist Church of Lebanon\, 11 School Street\, Lebanon\, NH\, 03766\, United States
END:VEVENT
BEGIN:VEVENT
DTSTART;TZID=America/New_York:20250814T183000
DTEND;TZID=America/New_York:20250814T203000
DTSTAMP:20260425T065435
CREATED:20250714T161144Z
LAST-MODIFIED:20250714T161144Z
UID:6639-1755196200-1755203400@lebfirstbaptist.com
SUMMARY:Small Group Bible Study
DESCRIPTION:Small Group Bible Study for Adults. Contact number: 603-738-7096
URL:http://lebfirstbaptist.com/event/small-group-bible-study-35/
LOCATION:NH
END:VEVENT
BEGIN:VEVENT
DTSTART;TZID=America/New_York:20250814T173000
DTEND;TZID=America/New_York:20250814T193000
DTSTAMP:20260425T065435
CREATED:20250714T161634Z
LAST-MODIFIED:20250714T161634Z
UID:6647-1755192600-1755199800@lebfirstbaptist.com
SUMMARY:Millennial Small Group
DESCRIPTION:Small Group Meetings for Millennials. Contact Church Office for details: 603-448-5618
URL:http://lebfirstbaptist.com/event/millennial-small-group-2/
LOCATION:NH
END:VEVENT
BEGIN:VEVENT
DTSTART;TZID=America/New_York:20250813T100000
DTEND;TZID=America/New_York:20250813T113000
DTSTAMP:20260425T065435
CREATED:20250806T160411Z
LAST-MODIFIED:20250806T160411Z
UID:6665-1755079200-1755084600@lebfirstbaptist.com
SUMMARY:Women's Bible Study
DESCRIPTION:Women’s Bible Study held at 11 School Street\, Lebanon\, NH
URL:http://lebfirstbaptist.com/event/womens-bible-study-22/
LOCATION:First Baptist Church of Lebanon\, 11 School Street\, Lebanon\, NH\, 03766\, United States
END:VEVENT
BEGIN:VEVENT
DTSTART;TZID=America/New_York:20250811T183000
DTEND;TZID=America/New_York:20250811T193000
DTSTAMP:20260425T065435
CREATED:20250714T160256Z
LAST-MODIFIED:20250714T160256Z
UID:6627-1754937000-1754940600@lebfirstbaptist.com
SUMMARY:Prayer Meeting
DESCRIPTION:Prayer Meetings will be held in the Sanctuary on Monday evenings.
URL:http://lebfirstbaptist.com/event/prayer-meeting-7/
LOCATION:First Baptist Church of Lebanon\, 11 School Street\, Lebanon\, NH\, 03766\, United States
END:VEVENT
BEGIN:VEVENT
DTSTART;TZID=America/New_York:20250810T103000
DTEND;TZID=America/New_York:20250810T120000
DTSTAMP:20260425T065435
CREATED:20250714T155421Z
LAST-MODIFIED:20250714T155421Z
UID:6617-1754821800-1754827200@lebfirstbaptist.com
SUMMARY:Worship Service
DESCRIPTION:
URL:http://lebfirstbaptist.com/event/worship-service-11/
LOCATION:First Baptist Church of Lebanon\, 11 School Street\, Lebanon\, NH\, 03766\, United States
END:VEVENT
BEGIN:VEVENT
DTSTART;TZID=America/New_York:20250809T100000
DTEND;TZID=America/New_York:20250809T110000
DTSTAMP:20260425T065435
CREATED:20250714T162306Z
LAST-MODIFIED:20250714T162306Z
UID:6655-1754733600-1754737200@lebfirstbaptist.com
SUMMARY:Raven Box Food Pantry
DESCRIPTION:This is located at First Baptist Church: 11 School Street in Lebanon\, NH. We will be serving outside on Green Street. This is free and open to all. This is a drive-through/walk-up service. We give out one paper grocery bag of non-perishable food items per household.
URL:http://lebfirstbaptist.com/event/raven-box-food-pantry-16/
LOCATION:First Baptist Church of Lebanon\, 11 School Street\, Lebanon\, NH\, 03766\, United States
END:VEVENT
BEGIN:VEVENT
DTSTART;TZID=America/New_York:20250807T183000
DTEND;TZID=America/New_York:20250807T203000
DTSTAMP:20260425T065435
CREATED:20250714T161000Z
LAST-MODIFIED:20250714T161000Z
UID:6637-1754591400-1754598600@lebfirstbaptist.com
SUMMARY:Small Group Bible Study
DESCRIPTION:Small Group Bible Study for Adults. Contact number: 603-738-7096
URL:http://lebfirstbaptist.com/event/small-group-bible-study-34/
LOCATION:NH
END:VEVENT
BEGIN:VEVENT
DTSTART;TZID=America/New_York:20250807T173000
DTEND;TZID=America/New_York:20250807T193000
DTSTAMP:20260425T065435
CREATED:20250714T161544Z
LAST-MODIFIED:20250714T161544Z
UID:6645-1754587800-1754595000@lebfirstbaptist.com
SUMMARY:Millennial Small Group
DESCRIPTION:Small Group Meetings for Millennials. Contact Church Office for details: 603-448-5618
URL:http://lebfirstbaptist.com/event/millennial-small-group/
LOCATION:NH
END:VEVENT
BEGIN:VEVENT
DTSTART;TZID=America/New_York:20250806T100000
DTEND;TZID=America/New_York:20250806T113000
DTSTAMP:20260425T065435
CREATED:20250806T160341Z
LAST-MODIFIED:20250806T160341Z
UID:6663-1754474400-1754479800@lebfirstbaptist.com
SUMMARY:Women's Bible Study
DESCRIPTION:Women’s Bible Study held at 11 School Street\, Lebanon\, NH
URL:http://lebfirstbaptist.com/event/womens-bible-study-21/
LOCATION:First Baptist Church of Lebanon\, 11 School Street\, Lebanon\, NH\, 03766\, United States
END:VEVENT
BEGIN:VEVENT
DTSTART;TZID=America/New_York:20250804T183000
DTEND;TZID=America/New_York:20250804T193000
DTSTAMP:20260425T065435
CREATED:20250714T160158Z
LAST-MODIFIED:20250714T160158Z
UID:6625-1754332200-1754335800@lebfirstbaptist.com
SUMMARY:Prayer Meeting
DESCRIPTION:Prayer Meetings will be held in the Sanctuary on Monday evenings.
URL:http://lebfirstbaptist.com/event/prayer-meeting-6/
LOCATION:First Baptist Church of Lebanon\, 11 School Street\, Lebanon\, NH\, 03766\, United States
END:VEVENT
BEGIN:VEVENT
DTSTART;TZID=America/New_York:20250803T103000
DTEND;TZID=America/New_York:20250803T120000
DTSTAMP:20260425T065435
CREATED:20250714T155336Z
LAST-MODIFIED:20250714T155336Z
UID:6615-1754217000-1754222400@lebfirstbaptist.com
SUMMARY:Worship Service
DESCRIPTION:
URL:http://lebfirstbaptist.com/event/worship-service-10/
LOCATION:First Baptist Church of Lebanon\, 11 School Street\, Lebanon\, NH\, 03766\, United States
END:VEVENT
BEGIN:VEVENT
DTSTART;TZID=America/New_York:20250731T183000
DTEND;TZID=America/New_York:20250731T203000
DTSTAMP:20260425T065435
CREATED:20250612T143139Z
LAST-MODIFIED:20250612T143139Z
UID:6584-1753986600-1753993800@lebfirstbaptist.com
SUMMARY:Small Group Bible Study
DESCRIPTION:Small Group Bible Study for Adults. Contact number: 603-738-7096
URL:http://lebfirstbaptist.com/event/small-group-bible-study-33/
LOCATION:NH
END:VEVENT
BEGIN:VEVENT
DTSTART;TZID=America/New_York:20250730T100000
DTEND;TZID=America/New_York:20250730T110000
DTSTAMP:20260425T065435
CREATED:20250623T140738Z
LAST-MODIFIED:20250623T140738Z
UID:6605-1753869600-1753873200@lebfirstbaptist.com
SUMMARY:Women's Bible Study
DESCRIPTION:Women’s Bible Study held at 11 School Street\, Lebanon\, NH
URL:http://lebfirstbaptist.com/event/womens-bible-study-20/
LOCATION:First Baptist Church of Lebanon\, 11 School Street\, Lebanon\, NH\, 03766\, United States
END:VEVENT
BEGIN:VEVENT
DTSTART;TZID=America/New_York:20250728T183000
DTEND;TZID=America/New_York:20250728T193000
DTSTAMP:20260425T065435
CREATED:20250612T142447Z
LAST-MODIFIED:20250616T154856Z
UID:6574-1753727400-1753731000@lebfirstbaptist.com
SUMMARY:Prayer Meeting
DESCRIPTION:Prayer Meetings will be held in the Sanctuary on Monday evenings.
URL:http://lebfirstbaptist.com/event/prayer-meeting-5/
LOCATION:First Baptist Church of Lebanon\, 11 School Street\, Lebanon\, NH\, 03766\, United States
END:VEVENT
BEGIN:VEVENT
DTSTART;TZID=America/New_York:20250727T103000
DTEND;TZID=America/New_York:20250727T120000
DTSTAMP:20260425T065435
CREATED:20250616T154602Z
LAST-MODIFIED:20250616T154602Z
UID:6594-1753612200-1753617600@lebfirstbaptist.com
SUMMARY:Worship Service
DESCRIPTION:
URL:http://lebfirstbaptist.com/event/worship-service-9/
LOCATION:First Baptist Church of Lebanon\, 11 School Street\, Lebanon\, NH\, 03766\, United States
END:VEVENT
BEGIN:VEVENT
DTSTART;TZID=America/New_York:20250726T090000
DTEND;TZID=America/New_York:20250726T140000
DTSTAMP:20260425T065435
CREATED:20250714T154842Z
LAST-MODIFIED:20250714T154842Z
UID:6613-1753520400-1753538400@lebfirstbaptist.com
SUMMARY:Yard Sale
DESCRIPTION:We will be hosting our Annual Summer Yard Sale & Lunch Fundraiser Saturday\, July 26 from 9am-2pm.
URL:http://lebfirstbaptist.com/event/yard-sale/
LOCATION:First Baptist Church of Lebanon\, 11 School Street\, Lebanon\, NH\, 03766\, United States
END:VEVENT
BEGIN:VEVENT
DTSTART;TZID=America/New_York:20250724T183000
DTEND;TZID=America/New_York:20250724T203000
DTSTAMP:20260425T065435
CREATED:20250612T143106Z
LAST-MODIFIED:20250612T143307Z
UID:6582-1753381800-1753389000@lebfirstbaptist.com
SUMMARY:Small Group Bible Study
DESCRIPTION:Small Group Bible Study for Adults. Contact number: 603-738-7096
URL:http://lebfirstbaptist.com/event/small-group-bible-study-32/
LOCATION:NH
END:VEVENT
BEGIN:VEVENT
DTSTART;TZID=America/New_York:20250723T100000
DTEND;TZID=America/New_York:20250723T110000
DTSTAMP:20260425T065435
CREATED:20250623T140700Z
LAST-MODIFIED:20250623T140700Z
UID:6603-1753264800-1753268400@lebfirstbaptist.com
SUMMARY:Women's Bible Study
DESCRIPTION:Women’s Bible Study held at 11 School Street\, Lebanon\, NH
URL:http://lebfirstbaptist.com/event/womens-bible-study-19/
LOCATION:First Baptist Church of Lebanon\, 11 School Street\, Lebanon\, NH\, 03766\, United States
END:VEVENT
BEGIN:VEVENT
DTSTART;TZID=America/New_York:20250721T183000
DTEND;TZID=America/New_York:20250721T193000
DTSTAMP:20260425T065435
CREATED:20250612T142414Z
LAST-MODIFIED:20250616T154837Z
UID:6572-1753122600-1753126200@lebfirstbaptist.com
SUMMARY:Prayer Meeting
DESCRIPTION:Prayer Meetings will be held in the Sanctuary on Monday evenings.
URL:http://lebfirstbaptist.com/event/prayer-meeting-4/
LOCATION:First Baptist Church of Lebanon\, 11 School Street\, Lebanon\, NH\, 03766\, United States
END:VEVENT
BEGIN:VEVENT
DTSTART;TZID=America/New_York:20250720T103000
DTEND;TZID=America/New_York:20250720T120000
DTSTAMP:20260425T065435
CREATED:20250616T154526Z
LAST-MODIFIED:20250616T154526Z
UID:6592-1753007400-1753012800@lebfirstbaptist.com
SUMMARY:Worship Service
DESCRIPTION:
URL:http://lebfirstbaptist.com/event/worship-service-8/
LOCATION:First Baptist Church of Lebanon\, 11 School Street\, Lebanon\, NH\, 03766\, United States
END:VEVENT
BEGIN:VEVENT
DTSTART;TZID=America/New_York:20250717T183000
DTEND;TZID=America/New_York:20250717T203000
DTSTAMP:20260425T065435
CREATED:20250612T142713Z
LAST-MODIFIED:20250612T143246Z
UID:6580-1752777000-1752784200@lebfirstbaptist.com
SUMMARY:Small Group Bible Study
DESCRIPTION:Small Group Bible Study for Adults. Contact number: 603-738-7096
URL:http://lebfirstbaptist.com/event/small-group-bible-study-31/
LOCATION:NH
END:VEVENT
BEGIN:VEVENT
DTSTART;TZID=America/New_York:20250716T100000
DTEND;TZID=America/New_York:20250716T110000
DTSTAMP:20260425T065435
CREATED:20250623T140613Z
LAST-MODIFIED:20250623T140613Z
UID:6601-1752660000-1752663600@lebfirstbaptist.com
SUMMARY:Women's Bible Study
DESCRIPTION:Women’s Bible Study held at 11 School Street\, Lebanon\, NH
URL:http://lebfirstbaptist.com/event/womens-bible-study-18/
LOCATION:First Baptist Church of Lebanon\, 11 School Street\, Lebanon\, NH\, 03766\, United States
END:VEVENT
BEGIN:VEVENT
DTSTART;TZID=America/New_York:20250714T183000
DTEND;TZID=America/New_York:20250714T193000
DTSTAMP:20260425T065435
CREATED:20250612T142338Z
LAST-MODIFIED:20250616T154816Z
UID:6570-1752517800-1752521400@lebfirstbaptist.com
SUMMARY:Prayer Meeting
DESCRIPTION:Prayer Meetings will be held in the Sanctuary on Monday evenings.
URL:http://lebfirstbaptist.com/event/prayer-meeting-3/
LOCATION:First Baptist Church of Lebanon\, 11 School Street\, Lebanon\, NH\, 03766\, United States
END:VEVENT
BEGIN:VEVENT
DTSTART;TZID=America/New_York:20250713T170000
DTEND;TZID=America/New_York:20250713T181500
DTSTAMP:20260425T065435
CREATED:20250612T143449Z
LAST-MODIFIED:20250616T154747Z
UID:6586-1752426000-1752430500@lebfirstbaptist.com
SUMMARY:Community Dinner
DESCRIPTION:To Go Community Dinners are served the Second Sunday of each month. You may stay and eat at the church if you would like. Held at 11 School Street in Lebanon\, NH.
URL:http://lebfirstbaptist.com/event/community-dinner-6/
LOCATION:First Baptist Church of Lebanon\, 11 School Street\, Lebanon\, NH\, 03766\, United States
END:VEVENT
BEGIN:VEVENT
DTSTART;TZID=America/New_York:20250713T103000
DTEND;TZID=America/New_York:20250713T120000
DTSTAMP:20260425T065435
CREATED:20250616T154459Z
LAST-MODIFIED:20250616T154459Z
UID:6590-1752402600-1752408000@lebfirstbaptist.com
SUMMARY:Worship Service
DESCRIPTION:
URL:http://lebfirstbaptist.com/event/worship-service-7/
LOCATION:First Baptist Church of Lebanon\, 11 School Street\, Lebanon\, NH\, 03766\, United States
END:VEVENT
BEGIN:VEVENT
DTSTART;TZID=America/New_York:20250712T174500
DTEND;TZID=America/New_York:20250712T193000
DTSTAMP:20260425T065435
CREATED:20250519T154233Z
LAST-MODIFIED:20250519T154233Z
UID:6558-1752342300-1752348600@lebfirstbaptist.com
SUMMARY:Vacation Bible School
DESCRIPTION:We will be hosting a 2 night Vacation Bible School for kids ages 3 up through 5th grade. VBS starts at 5:45 these nights. Please invite your friends and bring your kids for this great time of learning and fellowship.
URL:http://lebfirstbaptist.com/event/vacation-bible-school-2/
LOCATION:First Baptist Church of Lebanon\, 11 School Street\, Lebanon\, NH\, 03766\, United States
END:VEVENT
BEGIN:VEVENT
DTSTART;TZID=America/New_York:20250712T100000
DTEND;TZID=America/New_York:20250712T110000
DTSTAMP:20260425T065435
CREATED:20250612T141719Z
LAST-MODIFIED:20250616T154712Z
UID:6566-1752314400-1752318000@lebfirstbaptist.com
SUMMARY:Raven Box Food Pantry
DESCRIPTION:This is located at First Baptist Church: 11 School Street in Lebanon\, NH. We will be serving outside on Green Street. This is free and open to all. This is a drive-through/walk-up service. We give out one paper grocery bag of non-perishable food items per household.
URL:http://lebfirstbaptist.com/event/raven-box-food-pantry-15/
LOCATION:First Baptist Church of Lebanon\, 11 School Street\, Lebanon\, NH\, 03766\, United States
END:VEVENT
END:VCALENDAR