BEGIN:VCALENDAR
VERSION:2.0
PRODID:-//First Baptist Church - ECPv6.15.5//NONSGML v1.0//EN
CALSCALE:GREGORIAN
METHOD:PUBLISH
X-WR-CALNAME:First Baptist Church
X-ORIGINAL-URL:http://lebfirstbaptist.com
X-WR-CALDESC:Events for First Baptist Church
REFRESH-INTERVAL;VALUE=DURATION:PT1H
X-Robots-Tag:noindex
X-PUBLISHED-TTL:PT1H
BEGIN:VTIMEZONE
TZID:America/New_York
BEGIN:DAYLIGHT
TZOFFSETFROM:-0500
TZOFFSETTO:-0400
TZNAME:EDT
DTSTART:20260308T070000
END:DAYLIGHT
BEGIN:STANDARD
TZOFFSETFROM:-0400
TZOFFSETTO:-0500
TZNAME:EST
DTSTART:20261101T060000
END:STANDARD
END:VTIMEZONE
BEGIN:VEVENT
DTSTART;TZID=America/New_York:20260309T183000
DTEND;TZID=America/New_York:20260309T193000
DTSTAMP:20260425T065228
CREATED:20260226T171616Z
LAST-MODIFIED:20260226T171616Z
UID:7191-1773081000-1773084600@lebfirstbaptist.com
SUMMARY:Prayer Meeting
DESCRIPTION:Prayer Meetings will be held in the Sanctuary on Monday evenings.
URL:http://lebfirstbaptist.com/event/prayer-meeting-37/
LOCATION:First Baptist Church of Lebanon\, 11 School Street\, Lebanon\, NH\, 03766\, United States
END:VEVENT
BEGIN:VEVENT
DTSTART;TZID=America/New_York:20260308T103000
DTEND;TZID=America/New_York:20260308T120000
DTSTAMP:20260425T065228
CREATED:20260226T171116Z
LAST-MODIFIED:20260226T171116Z
UID:7175-1772965800-1772971200@lebfirstbaptist.com
SUMMARY:Worship Service
DESCRIPTION:
URL:http://lebfirstbaptist.com/event/worship-service-38/
LOCATION:First Baptist Church of Lebanon\, 11 School Street\, Lebanon\, NH\, 03766\, United States
END:VEVENT
BEGIN:VEVENT
DTSTART;TZID=America/New_York:20260308T090000
DTEND;TZID=America/New_York:20260308T100000
DTSTAMP:20260425T065228
CREATED:20260226T170846Z
LAST-MODIFIED:20260226T170846Z
UID:7165-1772960400-1772964000@lebfirstbaptist.com
SUMMARY:Adult Sunday School
DESCRIPTION:
URL:http://lebfirstbaptist.com/event/adult-sunday-school-10/
LOCATION:First Baptist Church of Lebanon\, 11 School Street\, Lebanon\, NH\, 03766\, United States
END:VEVENT
BEGIN:VEVENT
DTSTART;TZID=America/New_York:20260305T190000
DTEND;TZID=America/New_York:20260305T203000
DTSTAMP:20260425T065228
CREATED:20260226T172607Z
LAST-MODIFIED:20260226T172858Z
UID:7221-1772737200-1772742600@lebfirstbaptist.com
SUMMARY:Small Group Bible Study
DESCRIPTION:Small Group Bible Study for Adults hosted by Rick & Anne Pinilla. Contact Phone: 603-306-5570
URL:http://lebfirstbaptist.com/event/small-group-bible-study-75/
LOCATION:NH
END:VEVENT
BEGIN:VEVENT
DTSTART;TZID=America/New_York:20260305T183000
DTEND;TZID=America/New_York:20260305T200000
DTSTAMP:20260425T065228
CREATED:20260121T154828Z
LAST-MODIFIED:20260121T154828Z
UID:7116-1772735400-1772740800@lebfirstbaptist.com
SUMMARY:Small Group Bible Study
DESCRIPTION:Small Group Bible Study for Adults hosted by Roger & Betsy Wotton. Contact Phone: 603-738-7096
URL:http://lebfirstbaptist.com/event/small-group-bible-study-67/
LOCATION:NH
END:VEVENT
BEGIN:VEVENT
DTSTART;TZID=America/New_York:20260305T173000
DTEND;TZID=America/New_York:20260305T190000
DTSTAMP:20260425T065228
CREATED:20260226T172335Z
LAST-MODIFIED:20260226T172335Z
UID:7213-1772731800-1772737200@lebfirstbaptist.com
SUMMARY:Millennial Small Group
DESCRIPTION:Small Group Meetings for Millennials. Contact Church Office for details: 603-448-5618
URL:http://lebfirstbaptist.com/event/millennial-small-group-28/
LOCATION:First Baptist Church of Lebanon\, 11 School Street\, Lebanon\, NH\, 03766\, United States
END:VEVENT
BEGIN:VEVENT
DTSTART;TZID=America/New_York:20260304T100000
DTEND;TZID=America/New_York:20260304T113000
DTSTAMP:20260425T065228
CREATED:20260226T172100Z
LAST-MODIFIED:20260226T172100Z
UID:7205-1772618400-1772623800@lebfirstbaptist.com
SUMMARY:Morning Women's Bible Study
DESCRIPTION:Women’s Bible Study held at 11 School Street\, Lebanon\, NH
URL:http://lebfirstbaptist.com/event/morning-womens-bible-study-19/
LOCATION:First Baptist Church of Lebanon\, 11 School Street\, Lebanon\, NH\, 03766\, United States
END:VEVENT
BEGIN:VEVENT
DTSTART;TZID=America/New_York:20260303T180000
DTEND;TZID=America/New_York:20260303T190000
DTSTAMP:20260425T065228
CREATED:20260226T171922Z
LAST-MODIFIED:20260226T171922Z
UID:7199-1772560800-1772564400@lebfirstbaptist.com
SUMMARY:Evening Women's Bible Study
DESCRIPTION:Women’s Bible Study held at 11 School Street\, Lebanon\, NH
URL:http://lebfirstbaptist.com/event/evening-womens-bible-study-11/
LOCATION:First Baptist Church of Lebanon\, 11 School Street\, Lebanon\, NH\, 03766\, United States
END:VEVENT
BEGIN:VEVENT
DTSTART;TZID=America/New_York:20260302T183000
DTEND;TZID=America/New_York:20260302T193000
DTSTAMP:20260425T065228
CREATED:20260226T171548Z
LAST-MODIFIED:20260226T171548Z
UID:7189-1772476200-1772479800@lebfirstbaptist.com
SUMMARY:Prayer Meeting
DESCRIPTION:Prayer Meetings will be held in the Sanctuary on Monday evenings.
URL:http://lebfirstbaptist.com/event/prayer-meeting-36/
LOCATION:First Baptist Church of Lebanon\, 11 School Street\, Lebanon\, NH\, 03766\, United States
END:VEVENT
BEGIN:VEVENT
DTSTART;TZID=America/New_York:20260301T103000
DTEND;TZID=America/New_York:20260301T120000
DTSTAMP:20260425T065228
CREATED:20260226T171050Z
LAST-MODIFIED:20260226T171050Z
UID:7173-1772361000-1772366400@lebfirstbaptist.com
SUMMARY:Worship Service
DESCRIPTION:
URL:http://lebfirstbaptist.com/event/worship-service-37/
LOCATION:First Baptist Church of Lebanon\, 11 School Street\, Lebanon\, NH\, 03766\, United States
END:VEVENT
BEGIN:VEVENT
DTSTART;TZID=America/New_York:20260301T090000
DTEND;TZID=America/New_York:20260301T100000
DTSTAMP:20260425T065228
CREATED:20260226T170815Z
LAST-MODIFIED:20260226T170815Z
UID:7163-1772355600-1772359200@lebfirstbaptist.com
SUMMARY:Adult Sunday School
DESCRIPTION:
URL:http://lebfirstbaptist.com/event/adult-sunday-school-9/
LOCATION:First Baptist Church of Lebanon\, 11 School Street\, Lebanon\, NH\, 03766\, United States
END:VEVENT
BEGIN:VEVENT
DTSTART;TZID=America/New_York:20260228T100000
DTEND;TZID=America/New_York:20260228T110000
DTSTAMP:20260425T065228
CREATED:20260121T155337Z
LAST-MODIFIED:20260121T155337Z
UID:7134-1772272800-1772276400@lebfirstbaptist.com
SUMMARY:Raven Box Food Pantry
DESCRIPTION:This is located at First Baptist Church: 11 School Street in Lebanon\, NH. We will be serving outside on Green Street. This is free and open to all. This is a drive-through/walk-up service. We give out one paper grocery bag of non-perishable food items per household.
URL:http://lebfirstbaptist.com/event/raven-box-food-pantry-29/
LOCATION:First Baptist Church of Lebanon\, 11 School Street\, Lebanon\, NH\, 03766\, United States
END:VEVENT
BEGIN:VEVENT
DTSTART;TZID=America/New_York:20260226T190000
DTEND;TZID=America/New_York:20260226T203000
DTSTAMP:20260425T065228
CREATED:20260121T155224Z
LAST-MODIFIED:20260121T155224Z
UID:7130-1772132400-1772137800@lebfirstbaptist.com
SUMMARY:Small Group Bible Study
DESCRIPTION:Small Group Bible Study for Adults hosted by Rick & Anne Pinilla. Contact Phone: 603-306-5570
URL:http://lebfirstbaptist.com/event/small-group-bible-study-74/
LOCATION:NH
END:VEVENT
BEGIN:VEVENT
DTSTART;TZID=America/New_York:20260226T183000
DTEND;TZID=America/New_York:20260226T203000
DTSTAMP:20260425T065228
CREATED:20260121T155001Z
LAST-MODIFIED:20260121T155001Z
UID:7122-1772130600-1772137800@lebfirstbaptist.com
SUMMARY:Small Group Bible Study
DESCRIPTION:Small Group Bible Study for Adults hosted by Roger & Betsy Wotton. Contact Phone: 603-738-7096
URL:http://lebfirstbaptist.com/event/small-group-bible-study-70/
LOCATION:NH
END:VEVENT
BEGIN:VEVENT
DTSTART;TZID=America/New_York:20260226T173000
DTEND;TZID=America/New_York:20260226T190000
DTSTAMP:20260425T065228
CREATED:20260121T154727Z
LAST-MODIFIED:20260121T154727Z
UID:7114-1772127000-1772132400@lebfirstbaptist.com
SUMMARY:Millennial Small Group
DESCRIPTION:Small Group Meetings for Millennials. Contact Church Office for details: 603-448-5618
URL:http://lebfirstbaptist.com/event/millennial-small-group-27/
LOCATION:First Baptist Church of Lebanon\, 11 School Street\, Lebanon\, NH\, 03766\, United States
END:VEVENT
BEGIN:VEVENT
DTSTART;TZID=America/New_York:20260225T100000
DTEND;TZID=America/New_York:20260225T113000
DTSTAMP:20260425T065228
CREATED:20260121T154457Z
LAST-MODIFIED:20260121T154457Z
UID:7106-1772013600-1772019000@lebfirstbaptist.com
SUMMARY:Morning Women's Bible Study
DESCRIPTION:Women’s Bible Study held at 11 School Street\, Lebanon\, NH
URL:http://lebfirstbaptist.com/event/morning-womens-bible-study-18/
LOCATION:First Baptist Church of Lebanon\, 11 School Street\, Lebanon\, NH\, 03766\, United States
END:VEVENT
BEGIN:VEVENT
DTSTART;TZID=America/New_York:20260223T183000
DTEND;TZID=America/New_York:20260223T193000
DTSTAMP:20260425T065228
CREATED:20260121T154101Z
LAST-MODIFIED:20260121T154101Z
UID:7094-1771871400-1771875000@lebfirstbaptist.com
SUMMARY:Prayer Meeting
DESCRIPTION:Prayer Meetings will be held in the Sanctuary on Monday evenings.
URL:http://lebfirstbaptist.com/event/prayer-meeting-35/
LOCATION:First Baptist Church of Lebanon\, 11 School Street\, Lebanon\, NH\, 03766\, United States
END:VEVENT
BEGIN:VEVENT
DTSTART;TZID=America/New_York:20260222T103000
DTEND;TZID=America/New_York:20260222T120000
DTSTAMP:20260425T065228
CREATED:20260121T152824Z
LAST-MODIFIED:20260121T153239Z
UID:7078-1771756200-1771761600@lebfirstbaptist.com
SUMMARY:Worship Service
DESCRIPTION:
URL:http://lebfirstbaptist.com/event/worship-service-36/
LOCATION:First Baptist Church of Lebanon\, 11 School Street\, Lebanon\, NH\, 03766\, United States
END:VEVENT
BEGIN:VEVENT
DTSTART;TZID=America/New_York:20260222T090000
DTEND;TZID=America/New_York:20260222T100000
DTSTAMP:20260425T065228
CREATED:20260121T153023Z
LAST-MODIFIED:20260121T153023Z
UID:7086-1771750800-1771754400@lebfirstbaptist.com
SUMMARY:Adult Sunday School
DESCRIPTION:
URL:http://lebfirstbaptist.com/event/adult-sunday-school-8/
LOCATION:First Baptist Church of Lebanon\, 11 School Street\, Lebanon\, NH\, 03766\, United States
END:VEVENT
BEGIN:VEVENT
DTSTART;TZID=America/New_York:20260219T190000
DTEND;TZID=America/New_York:20260219T203000
DTSTAMP:20260425T065228
CREATED:20260121T155148Z
LAST-MODIFIED:20260121T155148Z
UID:7128-1771527600-1771533000@lebfirstbaptist.com
SUMMARY:Small Group Bible Study
DESCRIPTION:Small Group Bible Study for Adults hosted by Rick & Anne Pinilla. Contact Phone: 603-306-5570
URL:http://lebfirstbaptist.com/event/small-group-bible-study-73/
LOCATION:NH
END:VEVENT
BEGIN:VEVENT
DTSTART;TZID=America/New_York:20260219T183000
DTEND;TZID=America/New_York:20260219T203000
DTSTAMP:20260425T065228
CREATED:20260121T154926Z
LAST-MODIFIED:20260121T154926Z
UID:7120-1771525800-1771533000@lebfirstbaptist.com
SUMMARY:Small Group Bible Study
DESCRIPTION:Small Group Bible Study for Adults hosted by Roger & Betsy Wotton. Contact Phone: 603-738-7096
URL:http://lebfirstbaptist.com/event/small-group-bible-study-69/
LOCATION:NH
END:VEVENT
BEGIN:VEVENT
DTSTART;TZID=America/New_York:20260219T173000
DTEND;TZID=America/New_York:20260219T190000
DTSTAMP:20260425T065228
CREATED:20260121T154701Z
LAST-MODIFIED:20260121T154701Z
UID:7112-1771522200-1771527600@lebfirstbaptist.com
SUMMARY:Millennial Small Group
DESCRIPTION:Small Group Meetings for Millennials. Contact Church Office for details: 603-448-5618
URL:http://lebfirstbaptist.com/event/millennial-small-group-26/
LOCATION:First Baptist Church of Lebanon\, 11 School Street\, Lebanon\, NH\, 03766\, United States
END:VEVENT
BEGIN:VEVENT
DTSTART;TZID=America/New_York:20260218T100000
DTEND;TZID=America/New_York:20260218T113000
DTSTAMP:20260425T065228
CREATED:20260121T154359Z
LAST-MODIFIED:20260121T154359Z
UID:7104-1771408800-1771414200@lebfirstbaptist.com
SUMMARY:Morning Women's Bible Study
DESCRIPTION:Women’s Bible Study held at 11 School Street\, Lebanon\, NH
URL:http://lebfirstbaptist.com/event/morning-womens-bible-study-17/
LOCATION:First Baptist Church of Lebanon\, 11 School Street\, Lebanon\, NH\, 03766\, United States
END:VEVENT
BEGIN:VEVENT
DTSTART;TZID=America/New_York:20260217T180000
DTEND;TZID=America/New_York:20260217T193000
DTSTAMP:20260425T065228
CREATED:20260121T154232Z
LAST-MODIFIED:20260121T154232Z
UID:7098-1771351200-1771356600@lebfirstbaptist.com
SUMMARY:Evening Women's Bible Study
DESCRIPTION:Women’s Bible Study held at 11 School Street\, Lebanon\, NH
URL:http://lebfirstbaptist.com/event/evening-womens-bible-study-10/
LOCATION:First Baptist Church of Lebanon\, 11 School Street\, Lebanon\, NH\, 03766\, United States
END:VEVENT
BEGIN:VEVENT
DTSTART;TZID=America/New_York:20260216T183000
DTEND;TZID=America/New_York:20260216T193000
DTSTAMP:20260425T065228
CREATED:20260121T153512Z
LAST-MODIFIED:20260121T153512Z
UID:7092-1771266600-1771270200@lebfirstbaptist.com
SUMMARY:Prayer Meeting
DESCRIPTION:Prayer Meetings will be held in the Sanctuary on Monday evenings.
URL:http://lebfirstbaptist.com/event/prayer-meeting-34/
LOCATION:First Baptist Church of Lebanon\, 11 School Street\, Lebanon\, NH\, 03766\, United States
END:VEVENT
BEGIN:VEVENT
DTSTART;TZID=America/New_York:20260215T170000
DTEND;TZID=America/New_York:20260215T181500
DTSTAMP:20260425T065228
CREATED:20260121T155428Z
LAST-MODIFIED:20260121T155428Z
UID:7136-1771174800-1771179300@lebfirstbaptist.com
SUMMARY:Community Dinner
DESCRIPTION:To Go Community Dinners are served the third Sunday of each month. You may stay and eat at the church if you would like. Held at 11 School Street in Lebanon\, NH.
URL:http://lebfirstbaptist.com/event/community-dinner-12/
LOCATION:First Baptist Church of Lebanon\, 11 School Street\, Lebanon\, NH\, 03766\, United States
END:VEVENT
BEGIN:VEVENT
DTSTART;TZID=America/New_York:20260215T103000
DTEND;TZID=America/New_York:20260215T120000
DTSTAMP:20260425T065228
CREATED:20260121T152636Z
LAST-MODIFIED:20260121T153211Z
UID:7076-1771151400-1771156800@lebfirstbaptist.com
SUMMARY:Worship Service
DESCRIPTION:
URL:http://lebfirstbaptist.com/event/worship-service-35/
LOCATION:First Baptist Church of Lebanon\, 11 School Street\, Lebanon\, NH\, 03766\, United States
END:VEVENT
BEGIN:VEVENT
DTSTART;TZID=America/New_York:20260215T100000
DTEND;TZID=America/New_York:20260215T110000
DTSTAMP:20260425T065228
CREATED:20260121T152946Z
LAST-MODIFIED:20260121T152946Z
UID:7084-1771149600-1771153200@lebfirstbaptist.com
SUMMARY:Adult Sunday School
DESCRIPTION:
URL:http://lebfirstbaptist.com/event/adult-sunday-school-7/
LOCATION:First Baptist Church of Lebanon\, 11 School Street\, Lebanon\, NH\, 03766\, United States
END:VEVENT
BEGIN:VEVENT
DTSTART;TZID=America/New_York:20260214T100000
DTEND;TZID=America/New_York:20260214T110000
DTSTAMP:20260425T065228
CREATED:20260121T155312Z
LAST-MODIFIED:20260121T155312Z
UID:7132-1771063200-1771066800@lebfirstbaptist.com
SUMMARY:Raven Box Food Pantry
DESCRIPTION:This is located at First Baptist Church: 11 School Street in Lebanon\, NH. We will be serving outside on Green Street. This is free and open to all. This is a drive-through/walk-up service. We give out one paper grocery bag of non-perishable food items per household.
URL:http://lebfirstbaptist.com/event/raven-box-food-pantry-28/
LOCATION:First Baptist Church of Lebanon\, 11 School Street\, Lebanon\, NH\, 03766\, United States
END:VEVENT
BEGIN:VEVENT
DTSTART;TZID=America/New_York:20260212T190000
DTEND;TZID=America/New_York:20260212T203000
DTSTAMP:20260425T065228
CREATED:20260121T155116Z
LAST-MODIFIED:20260121T155116Z
UID:7126-1770922800-1770928200@lebfirstbaptist.com
SUMMARY:Small Group Bible Study
DESCRIPTION:Small Group Bible Study for Adults hosted by Rick & Anne Pinilla. Contact Phone: 603-306-5570
URL:http://lebfirstbaptist.com/event/small-group-bible-study-72/
LOCATION:NH
END:VEVENT
END:VCALENDAR