BEGIN:VCALENDAR
VERSION:2.0
PRODID:-//First Baptist Church - ECPv6.15.5//NONSGML v1.0//EN
CALSCALE:GREGORIAN
METHOD:PUBLISH
X-WR-CALNAME:First Baptist Church
X-ORIGINAL-URL:http://lebfirstbaptist.com
X-WR-CALDESC:Events for First Baptist Church
REFRESH-INTERVAL;VALUE=DURATION:PT1H
X-Robots-Tag:noindex
X-PUBLISHED-TTL:PT1H
BEGIN:VTIMEZONE
TZID:America/New_York
BEGIN:DAYLIGHT
TZOFFSETFROM:-0500
TZOFFSETTO:-0400
TZNAME:EDT
DTSTART:20250309T070000
END:DAYLIGHT
BEGIN:STANDARD
TZOFFSETFROM:-0400
TZOFFSETTO:-0500
TZNAME:EST
DTSTART:20251102T060000
END:STANDARD
BEGIN:DAYLIGHT
TZOFFSETFROM:-0500
TZOFFSETTO:-0400
TZNAME:EDT
DTSTART:20260308T070000
END:DAYLIGHT
BEGIN:STANDARD
TZOFFSETFROM:-0400
TZOFFSETTO:-0500
TZNAME:EST
DTSTART:20261101T060000
END:STANDARD
END:VTIMEZONE
BEGIN:VEVENT
DTSTART;TZID=America/New_York:20251215T183000
DTEND;TZID=America/New_York:20251215T193000
DTSTAMP:20260424T124210
CREATED:20251118T164549Z
LAST-MODIFIED:20251118T164549Z
UID:6931-1765823400-1765827000@lebfirstbaptist.com
SUMMARY:Prayer Meeting
DESCRIPTION:Prayer Meetings will be held in the Sanctuary on Monday evenings.
URL:http://lebfirstbaptist.com/event/prayer-meeting-25/
LOCATION:First Baptist Church of Lebanon\, 11 School Street\, Lebanon\, NH\, 03766\, United States
END:VEVENT
BEGIN:VEVENT
DTSTART;TZID=America/New_York:20251217T100000
DTEND;TZID=America/New_York:20251217T113000
DTSTAMP:20260424T124210
CREATED:20251118T165005Z
LAST-MODIFIED:20251118T165005Z
UID:6943-1765965600-1765971000@lebfirstbaptist.com
SUMMARY:Morning Women's Bible Study
DESCRIPTION:Women’s Bible Study held at 11 School Street\, Lebanon\, NH
URL:http://lebfirstbaptist.com/event/morning-womens-bible-study-12/
LOCATION:First Baptist Church of Lebanon\, 11 School Street\, Lebanon\, NH\, 03766\, United States
END:VEVENT
BEGIN:VEVENT
DTSTART;TZID=America/New_York:20251218T173000
DTEND;TZID=America/New_York:20251218T190000
DTSTAMP:20260424T124210
CREATED:20251118T165257Z
LAST-MODIFIED:20251118T165257Z
UID:6949-1766079000-1766084400@lebfirstbaptist.com
SUMMARY:Millennial Small Group
DESCRIPTION:Small Group Meetings for Millennials. Contact Church Office for details: 603-448-5618
URL:http://lebfirstbaptist.com/event/millennial-small-group-19/
LOCATION:First Baptist Church of Lebanon\, 11 School Street\, Lebanon\, NH\, 03766\, United States
END:VEVENT
BEGIN:VEVENT
DTSTART;TZID=America/New_York:20251218T183000
DTEND;TZID=America/New_York:20251218T203000
DTSTAMP:20260424T124210
CREATED:20251118T165506Z
LAST-MODIFIED:20251118T165506Z
UID:6955-1766082600-1766089800@lebfirstbaptist.com
SUMMARY:Small Group Bible Study
DESCRIPTION:Small Group Bible Study for Adults hosted by Roger & Betsy Wotton. Contact Phone: 603-738-7096
URL:http://lebfirstbaptist.com/event/small-group-bible-study-58/
LOCATION:NH
END:VEVENT
BEGIN:VEVENT
DTSTART;TZID=America/New_York:20251221T090000
DTEND;TZID=America/New_York:20251221T100000
DTSTAMP:20260424T124210
CREATED:20251118T164146Z
LAST-MODIFIED:20251118T164146Z
UID:6923-1766307600-1766311200@lebfirstbaptist.com
SUMMARY:Adult Sunday School - Breakfast & Bible
DESCRIPTION:Sanctification: The Forgotten Teaching Led by Dr. Rev. Kevin Schwamb
URL:http://lebfirstbaptist.com/event/adult-sunday-school-breakfast-bible-3/
LOCATION:First Baptist Church of Lebanon\, 11 School Street\, Lebanon\, NH\, 03766\, United States
END:VEVENT
BEGIN:VEVENT
DTSTART;TZID=America/New_York:20251221T103000
DTEND;TZID=America/New_York:20251221T120000
DTSTAMP:20260424T124210
CREATED:20251118T165959Z
LAST-MODIFIED:20251210T144937Z
UID:6969-1766313000-1766318400@lebfirstbaptist.com
SUMMARY:Christmas Sunday Worship Service
DESCRIPTION:
URL:http://lebfirstbaptist.com/event/christmas-sunday-worship-service/
LOCATION:First Baptist Church of Lebanon\, 11 School Street\, Lebanon\, NH\, 03766\, United States
END:VEVENT
BEGIN:VEVENT
DTSTART;TZID=America/New_York:20251221T170000
DTEND;TZID=America/New_York:20251221T181500
DTSTAMP:20260424T124210
CREATED:20251118T170230Z
LAST-MODIFIED:20251118T170230Z
UID:6971-1766336400-1766340900@lebfirstbaptist.com
SUMMARY:Community Dinner
DESCRIPTION:To Go Community Dinners are served the third Sunday of each month. You may stay and eat at the church if you would like. Held at 11 School Street in Lebanon\, NH.
URL:http://lebfirstbaptist.com/event/community-dinner-10/
LOCATION:First Baptist Church of Lebanon\, 11 School Street\, Lebanon\, NH\, 03766\, United States
END:VEVENT
BEGIN:VEVENT
DTSTART;TZID=America/New_York:20251222T183000
DTEND;TZID=America/New_York:20251222T193000
DTSTAMP:20260424T124210
CREATED:20251118T164622Z
LAST-MODIFIED:20251118T164622Z
UID:6933-1766428200-1766431800@lebfirstbaptist.com
SUMMARY:Prayer Meeting
DESCRIPTION:Prayer Meetings will be held in the Sanctuary on Monday evenings.
URL:http://lebfirstbaptist.com/event/prayer-meeting-26/
LOCATION:First Baptist Church of Lebanon\, 11 School Street\, Lebanon\, NH\, 03766\, United States
END:VEVENT
BEGIN:VEVENT
DTSTART;TZID=America/New_York:20251224T180000
DTEND;TZID=America/New_York:20251224T200000
DTSTAMP:20260424T124210
CREATED:20251119T162231Z
LAST-MODIFIED:20251210T145000Z
UID:6973-1766599200-1766606400@lebfirstbaptist.com
SUMMARY:Christmas Eve Candlelight Service
DESCRIPTION:
URL:http://lebfirstbaptist.com/event/christmas-eve-candlelight-service-2/
LOCATION:First Baptist Church of Lebanon\, 11 School Street\, Lebanon\, NH\, 03766\, United States
END:VEVENT
BEGIN:VEVENT
DTSTART;TZID=America/New_York:20251227T100000
DTEND;TZID=America/New_York:20251227T110000
DTSTAMP:20260424T124210
CREATED:20251118T165632Z
LAST-MODIFIED:20251118T165632Z
UID:6959-1766829600-1766833200@lebfirstbaptist.com
SUMMARY:Raven Box Food Pantry
DESCRIPTION:This is located at First Baptist Church: 11 School Street in Lebanon\, NH. We will be serving outside on Green Street. This is free and open to all. This is a drive-through/walk-up service. We give out one paper grocery bag of non-perishable food items per household.
URL:http://lebfirstbaptist.com/event/raven-box-food-pantry-25/
LOCATION:First Baptist Church of Lebanon\, 11 School Street\, Lebanon\, NH\, 03766\, United States
END:VEVENT
BEGIN:VEVENT
DTSTART;TZID=America/New_York:20251228T090000
DTEND;TZID=America/New_York:20251228T100000
DTSTAMP:20260424T124210
CREATED:20251118T164231Z
LAST-MODIFIED:20251118T164231Z
UID:6925-1766912400-1766916000@lebfirstbaptist.com
SUMMARY:Adult Sunday School - Breakfast & Bible
DESCRIPTION:Sanctification: The Forgotten Teaching Led by Dr. Rev. Kevin Schwamb
URL:http://lebfirstbaptist.com/event/adult-sunday-school-breakfast-bible-4/
LOCATION:First Baptist Church of Lebanon\, 11 School Street\, Lebanon\, NH\, 03766\, United States
END:VEVENT
BEGIN:VEVENT
DTSTART;TZID=America/New_York:20251229T183000
DTEND;TZID=America/New_York:20251229T193000
DTSTAMP:20260424T124210
CREATED:20251118T164659Z
LAST-MODIFIED:20251118T164659Z
UID:6935-1767033000-1767036600@lebfirstbaptist.com
SUMMARY:Prayer Meeting
DESCRIPTION:Prayer Meetings will be held in the Sanctuary on Monday evenings.
URL:http://lebfirstbaptist.com/event/prayer-meeting-27/
LOCATION:First Baptist Church of Lebanon\, 11 School Street\, Lebanon\, NH\, 03766\, United States
END:VEVENT
BEGIN:VEVENT
DTSTART;TZID=America/New_York:20260104T090000
DTEND;TZID=America/New_York:20260104T100000
DTSTAMP:20260424T124210
CREATED:20251217T151136Z
LAST-MODIFIED:20251217T151136Z
UID:7004-1767517200-1767520800@lebfirstbaptist.com
SUMMARY:Adult Sunday School
DESCRIPTION:
URL:http://lebfirstbaptist.com/event/adult-sunday-school/
LOCATION:First Baptist Church of Lebanon\, 11 School Street\, Lebanon\, NH\, 03766\, United States
END:VEVENT
BEGIN:VEVENT
DTSTART;TZID=America/New_York:20260104T103000
DTEND;TZID=America/New_York:20260104T120000
DTSTAMP:20260424T124210
CREATED:20251217T151507Z
LAST-MODIFIED:20251217T151507Z
UID:7012-1767522600-1767528000@lebfirstbaptist.com
SUMMARY:Worship Service
DESCRIPTION:
URL:http://lebfirstbaptist.com/event/worship-service-29/
LOCATION:First Baptist Church of Lebanon\, 11 School Street\, Lebanon\, NH\, 03766\, United States
END:VEVENT
BEGIN:VEVENT
DTSTART;TZID=America/New_York:20260105T183000
DTEND;TZID=America/New_York:20260105T193000
DTSTAMP:20260424T124210
CREATED:20251217T155440Z
LAST-MODIFIED:20251217T155440Z
UID:7022-1767637800-1767641400@lebfirstbaptist.com
SUMMARY:Prayer Meeting
DESCRIPTION:Prayer Meetings will be held in the Sanctuary on Monday evenings.
URL:http://lebfirstbaptist.com/event/prayer-meeting-28/
LOCATION:First Baptist Church of Lebanon\, 11 School Street\, Lebanon\, NH\, 03766\, United States
END:VEVENT
BEGIN:VEVENT
DTSTART;TZID=America/New_York:20260106T180000
DTEND;TZID=America/New_York:20260106T193000
DTSTAMP:20260424T124210
CREATED:20251217T155713Z
LAST-MODIFIED:20251217T155713Z
UID:7030-1767722400-1767727800@lebfirstbaptist.com
SUMMARY:Evening Women's Bible Study
DESCRIPTION:Women’s Bible Study held at 11 School Street\, Lebanon\, NH
URL:http://lebfirstbaptist.com/event/evening-womens-bible-study-6/
LOCATION:First Baptist Church of Lebanon\, 11 School Street\, Lebanon\, NH\, 03766\, United States
END:VEVENT
BEGIN:VEVENT
DTSTART;TZID=America/New_York:20260107T100000
DTEND;TZID=America/New_York:20260107T113000
DTSTAMP:20260424T124210
CREATED:20251217T155757Z
LAST-MODIFIED:20251217T155757Z
UID:7032-1767780000-1767785400@lebfirstbaptist.com
SUMMARY:Morning Women's Bible Study
DESCRIPTION:Women’s Bible Study held at 11 School Street\, Lebanon\, NH
URL:http://lebfirstbaptist.com/event/morning-womens-bible-study-9/
LOCATION:First Baptist Church of Lebanon\, 11 School Street\, Lebanon\, NH\, 03766\, United States
END:VEVENT
BEGIN:VEVENT
DTSTART;TZID=America/New_York:20260108T173000
DTEND;TZID=America/New_York:20260108T190000
DTSTAMP:20260424T124210
CREATED:20251217T160138Z
LAST-MODIFIED:20251217T160138Z
UID:7043-1767893400-1767898800@lebfirstbaptist.com
SUMMARY:Millennial Small Group
DESCRIPTION:Small Group Meetings for Millennials. Contact Church Office for details: 603-448-5618
URL:http://lebfirstbaptist.com/event/millennial-small-group-20/
LOCATION:First Baptist Church of Lebanon\, 11 School Street\, Lebanon\, NH\, 03766\, United States
END:VEVENT
BEGIN:VEVENT
DTSTART;TZID=America/New_York:20260108T183000
DTEND;TZID=America/New_York:20260108T203000
DTSTAMP:20260424T124210
CREATED:20251217T160414Z
LAST-MODIFIED:20251217T160414Z
UID:7051-1767897000-1767904200@lebfirstbaptist.com
SUMMARY:Small Group Bible Study
DESCRIPTION:Small Group Bible Study for Adults hosted by Roger & Betsy Wotton. Contact Phone: 603-738-7096
URL:http://lebfirstbaptist.com/event/small-group-bible-study-59/
LOCATION:NH
END:VEVENT
BEGIN:VEVENT
DTSTART;TZID=America/New_York:20260108T190000
DTEND;TZID=America/New_York:20260108T203000
DTSTAMP:20260424T124210
CREATED:20251217T160713Z
LAST-MODIFIED:20251217T160713Z
UID:7059-1767898800-1767904200@lebfirstbaptist.com
SUMMARY:Small Group Bible Study
DESCRIPTION:Small Group Bible Study for Adults hosted by Rick & Anne Pinilla. Contact Phone: 603-306-5570
URL:http://lebfirstbaptist.com/event/small-group-bible-study-63/
LOCATION:NH
END:VEVENT
BEGIN:VEVENT
DTSTART;TZID=America/New_York:20260110T100000
DTEND;TZID=America/New_York:20260110T110000
DTSTAMP:20260424T124210
CREATED:20251217T161048Z
LAST-MODIFIED:20251217T161048Z
UID:7067-1768039200-1768042800@lebfirstbaptist.com
SUMMARY:Raven Box Food Pantry
DESCRIPTION:This is located at First Baptist Church: 11 School Street in Lebanon\, NH. We will be serving outside on Green Street. This is free and open to all. This is a drive-through/walk-up service. We give out one paper grocery bag of non-perishable food items per household.
URL:http://lebfirstbaptist.com/event/raven-box-food-pantry-26/
LOCATION:First Baptist Church of Lebanon\, 11 School Street\, Lebanon\, NH\, 03766\, United States
END:VEVENT
BEGIN:VEVENT
DTSTART;TZID=America/New_York:20260111T090000
DTEND;TZID=America/New_York:20260111T100000
DTSTAMP:20260424T124210
CREATED:20251217T151204Z
LAST-MODIFIED:20251217T151204Z
UID:7006-1768122000-1768125600@lebfirstbaptist.com
SUMMARY:Adult Sunday School
DESCRIPTION:
URL:http://lebfirstbaptist.com/event/adult-sunday-school-2/
LOCATION:First Baptist Church of Lebanon\, 11 School Street\, Lebanon\, NH\, 03766\, United States
END:VEVENT
BEGIN:VEVENT
DTSTART;TZID=America/New_York:20260111T103000
DTEND;TZID=America/New_York:20260111T120000
DTSTAMP:20260424T124210
CREATED:20251217T154522Z
LAST-MODIFIED:20251217T154522Z
UID:7014-1768127400-1768132800@lebfirstbaptist.com
SUMMARY:Worship Service
DESCRIPTION:
URL:http://lebfirstbaptist.com/event/worship-service-30/
LOCATION:First Baptist Church of Lebanon\, 11 School Street\, Lebanon\, NH\, 03766\, United States
END:VEVENT
BEGIN:VEVENT
DTSTART;TZID=America/New_York:20260112T183000
DTEND;TZID=America/New_York:20260112T193000
DTSTAMP:20260424T124210
CREATED:20251217T155510Z
LAST-MODIFIED:20251217T155510Z
UID:7024-1768242600-1768246200@lebfirstbaptist.com
SUMMARY:Prayer Meeting
DESCRIPTION:Prayer Meetings will be held in the Sanctuary on Monday evenings.
URL:http://lebfirstbaptist.com/event/prayer-meeting-29/
LOCATION:First Baptist Church of Lebanon\, 11 School Street\, Lebanon\, NH\, 03766\, United States
END:VEVENT
BEGIN:VEVENT
DTSTART;TZID=America/New_York:20260114T100000
DTEND;TZID=America/New_York:20260114T113000
DTSTAMP:20260424T124210
CREATED:20251217T155825Z
LAST-MODIFIED:20251217T155825Z
UID:7034-1768384800-1768390200@lebfirstbaptist.com
SUMMARY:Morning Women's Bible Study
DESCRIPTION:Women’s Bible Study held at 11 School Street\, Lebanon\, NH
URL:http://lebfirstbaptist.com/event/morning-womens-bible-study-13/
LOCATION:First Baptist Church of Lebanon\, 11 School Street\, Lebanon\, NH\, 03766\, United States
END:VEVENT
BEGIN:VEVENT
DTSTART;TZID=America/New_York:20260115T173000
DTEND;TZID=America/New_York:20260115T190000
DTSTAMP:20260424T124210
CREATED:20251217T160214Z
LAST-MODIFIED:20251217T160214Z
UID:7045-1768498200-1768503600@lebfirstbaptist.com
SUMMARY:Millennial Small Group
DESCRIPTION:Small Group Meetings for Millennials. Contact Church Office for details: 603-448-5618
URL:http://lebfirstbaptist.com/event/millennial-small-group-21/
LOCATION:First Baptist Church of Lebanon\, 11 School Street\, Lebanon\, NH\, 03766\, United States
END:VEVENT
BEGIN:VEVENT
DTSTART;TZID=America/New_York:20260115T183000
DTEND;TZID=America/New_York:20260115T203000
DTSTAMP:20260424T124210
CREATED:20251217T160456Z
LAST-MODIFIED:20251217T160456Z
UID:7053-1768501800-1768509000@lebfirstbaptist.com
SUMMARY:Small Group Bible Study
DESCRIPTION:Small Group Bible Study for Adults hosted by Roger & Betsy Wotton. Contact Phone: 603-738-7096
URL:http://lebfirstbaptist.com/event/small-group-bible-study-60/
LOCATION:NH
END:VEVENT
BEGIN:VEVENT
DTSTART;TZID=America/New_York:20260115T190000
DTEND;TZID=America/New_York:20260115T203000
DTSTAMP:20260424T124210
CREATED:20251217T160811Z
LAST-MODIFIED:20251217T160811Z
UID:7061-1768503600-1768509000@lebfirstbaptist.com
SUMMARY:Small Group Bible Study
DESCRIPTION:Small Group Bible Study for Adults hosted by Rick & Anne Pinilla. Contact Phone: 603-306-5570
URL:http://lebfirstbaptist.com/event/small-group-bible-study-64/
LOCATION:NH
END:VEVENT
BEGIN:VEVENT
DTSTART;TZID=America/New_York:20260118T090000
DTEND;TZID=America/New_York:20260118T100000
DTSTAMP:20260424T124210
CREATED:20251217T151233Z
LAST-MODIFIED:20251217T151233Z
UID:7008-1768726800-1768730400@lebfirstbaptist.com
SUMMARY:Adult Sunday School
DESCRIPTION:
URL:http://lebfirstbaptist.com/event/adult-sunday-school-3/
LOCATION:First Baptist Church of Lebanon\, 11 School Street\, Lebanon\, NH\, 03766\, United States
END:VEVENT
BEGIN:VEVENT
DTSTART;TZID=America/New_York:20260118T103000
DTEND;TZID=America/New_York:20260118T120000
DTSTAMP:20260424T124210
CREATED:20251217T154552Z
LAST-MODIFIED:20251217T154552Z
UID:7016-1768732200-1768737600@lebfirstbaptist.com
SUMMARY:Worship Service
DESCRIPTION:
URL:http://lebfirstbaptist.com/event/worship-service-31/
LOCATION:First Baptist Church of Lebanon\, 11 School Street\, Lebanon\, NH\, 03766\, United States
END:VEVENT
END:VCALENDAR