BEGIN:VCALENDAR
VERSION:2.0
PRODID:-//First Baptist Church - ECPv6.15.5//NONSGML v1.0//EN
CALSCALE:GREGORIAN
METHOD:PUBLISH
X-WR-CALNAME:First Baptist Church
X-ORIGINAL-URL:http://lebfirstbaptist.com
X-WR-CALDESC:Events for First Baptist Church
REFRESH-INTERVAL;VALUE=DURATION:PT1H
X-Robots-Tag:noindex
X-PUBLISHED-TTL:PT1H
BEGIN:VTIMEZONE
TZID:America/New_York
BEGIN:DAYLIGHT
TZOFFSETFROM:-0500
TZOFFSETTO:-0400
TZNAME:EDT
DTSTART:20250309T070000
END:DAYLIGHT
BEGIN:STANDARD
TZOFFSETFROM:-0400
TZOFFSETTO:-0500
TZNAME:EST
DTSTART:20251102T060000
END:STANDARD
END:VTIMEZONE
BEGIN:VEVENT
DTSTART;TZID=America/New_York:20250520T180000
DTEND;TZID=America/New_York:20250520T193000
DTSTAMP:20260425T214338
CREATED:20250421T140545Z
LAST-MODIFIED:20250421T140545Z
UID:6511-1747764000-1747769400@lebfirstbaptist.com
SUMMARY:Women's Bible Study
DESCRIPTION:Women’s Bible Study held at 11 School Street\, Lebanon\, NH
URL:http://lebfirstbaptist.com/event/womens-bible-study-6/
LOCATION:NH
END:VEVENT
BEGIN:VEVENT
DTSTART;TZID=America/New_York:20250518T103000
DTEND;TZID=America/New_York:20250518T120000
DTSTAMP:20260425T214338
CREATED:20250421T134632Z
LAST-MODIFIED:20250421T134632Z
UID:6497-1747564200-1747569600@lebfirstbaptist.com
SUMMARY:Sunday Worship Service
DESCRIPTION:11 School Street\, Lebanon\, NH
URL:http://lebfirstbaptist.com/event/sunday-worship-service-3/
LOCATION:NH
END:VEVENT
BEGIN:VEVENT
DTSTART;TZID=America/New_York:20250515T183000
DTEND;TZID=America/New_York:20250515T203000
DTSTAMP:20260425T214338
CREATED:20250421T134307Z
LAST-MODIFIED:20250421T134307Z
UID:6486-1747333800-1747341000@lebfirstbaptist.com
SUMMARY:Small Group Bible Study
DESCRIPTION:Small Group Bible Study for Adults. Contact number: 603-738-7096
URL:http://lebfirstbaptist.com/event/small-group-bible-study-22/
LOCATION:NH
END:VEVENT
BEGIN:VEVENT
DTSTART;TZID=America/New_York:20250514T100000
DTEND;TZID=America/New_York:20250514T113000
DTSTAMP:20260425T214338
CREATED:20250421T140037Z
LAST-MODIFIED:20250421T140037Z
UID:6503-1747216800-1747222200@lebfirstbaptist.com
SUMMARY:Women's Bible Study
DESCRIPTION:Women’s Bible Study held at 11 School Street\, Lebanon\, NH
URL:http://lebfirstbaptist.com/event/womens-bible-study-2/
LOCATION:NH
END:VEVENT
BEGIN:VEVENT
DTSTART;TZID=America/New_York:20250511T103000
DTEND;TZID=America/New_York:20250511T120000
DTSTAMP:20260425T214338
CREATED:20250421T134558Z
LAST-MODIFIED:20250421T134558Z
UID:6495-1746959400-1746964800@lebfirstbaptist.com
SUMMARY:Sunday Worship Service
DESCRIPTION:11 School Street\, Lebanon\, NH
URL:http://lebfirstbaptist.com/event/sunday-worship-service-2/
LOCATION:NH
END:VEVENT
BEGIN:VEVENT
DTSTART;TZID=America/New_York:20250510T100000
DTEND;TZID=America/New_York:20250510T110000
DTSTAMP:20260425T214338
CREATED:20250421T134028Z
LAST-MODIFIED:20250421T134028Z
UID:6478-1746871200-1746874800@lebfirstbaptist.com
SUMMARY:Raven Box Food Pantry
DESCRIPTION:This is located at First Baptist Church: 11 School Street in Lebanon\, NH. We will be serving outside on Green Street. This is free and open to all. This is a drive-through/walk-up service. We give out one paper grocery bag of non-perishable food items per household.
URL:http://lebfirstbaptist.com/event/raven-box-food-pantry-11/
LOCATION:NH
END:VEVENT
BEGIN:VEVENT
DTSTART;TZID=America/New_York:20250508T183000
DTEND;TZID=America/New_York:20250508T203000
DTSTAMP:20260425T214338
CREATED:20250421T134233Z
LAST-MODIFIED:20250421T134233Z
UID:6484-1746729000-1746736200@lebfirstbaptist.com
SUMMARY:Small Group Bible Study
DESCRIPTION:Small Group Bible Study for Adults. Contact number: 603-738-7096
URL:http://lebfirstbaptist.com/event/small-group-bible-study-21/
LOCATION:NH
END:VEVENT
BEGIN:VEVENT
DTSTART;TZID=America/New_York:20250507T100000
DTEND;TZID=America/New_York:20250507T233000
DTSTAMP:20260425T214338
CREATED:20250421T135954Z
LAST-MODIFIED:20250421T135954Z
UID:6501-1746612000-1746660600@lebfirstbaptist.com
SUMMARY:Women's Bible Study
DESCRIPTION:Women’s Bible Study is held at 11 School Street\, Lebanon\, NH
URL:http://lebfirstbaptist.com/event/womens-bible-study/
LOCATION:NH
END:VEVENT
BEGIN:VEVENT
DTSTART;TZID=America/New_York:20250506T180000
DTEND;TZID=America/New_York:20250506T193000
DTSTAMP:20260425T214338
CREATED:20250421T140501Z
LAST-MODIFIED:20250421T140501Z
UID:6509-1746554400-1746559800@lebfirstbaptist.com
SUMMARY:Women's Bible Study
DESCRIPTION:Women’s Bible Study held at 11 School Street\, Lebanon\, NH
URL:http://lebfirstbaptist.com/event/womens-bible-study-5/
LOCATION:NH
END:VEVENT
BEGIN:VEVENT
DTSTART;TZID=America/New_York:20250504T103000
DTEND;TZID=America/New_York:20250504T120000
DTSTAMP:20260425T214338
CREATED:20250421T134525Z
LAST-MODIFIED:20250421T134525Z
UID:6493-1746354600-1746360000@lebfirstbaptist.com
SUMMARY:Sunday Worship Service
DESCRIPTION:11 School Street\, Lebanon\, NH
URL:http://lebfirstbaptist.com/event/sunday-worship-service/
LOCATION:NH
END:VEVENT
BEGIN:VEVENT
DTSTART;TZID=America/New_York:20250501T183000
DTEND;TZID=America/New_York:20250501T203000
DTSTAMP:20260425T214338
CREATED:20250421T134159Z
LAST-MODIFIED:20250421T134159Z
UID:6482-1746124200-1746131400@lebfirstbaptist.com
SUMMARY:Small Group Bible Study
DESCRIPTION:Small Group Bible Study for Adults. Contact number: 603-738-7096
URL:http://lebfirstbaptist.com/event/small-group-bible-study-20/
LOCATION:NH
END:VEVENT
BEGIN:VEVENT
DTSTART;TZID=America/New_York:20250430T100000
DTEND;TZID=America/New_York:20250430T113000
DTSTAMP:20260425T214338
CREATED:20250421T141021Z
LAST-MODIFIED:20250421T141021Z
UID:6517-1746007200-1746012600@lebfirstbaptist.com
SUMMARY:Women's Bible Study
DESCRIPTION:Women’s Bible Study held at 11 School Street\, Lebanon\, NH
URL:http://lebfirstbaptist.com/event/womens-bible-study-9/
LOCATION:NH
END:VEVENT
BEGIN:VEVENT
DTSTART;TZID=America/New_York:20250426T100000
DTEND;TZID=America/New_York:20250426T110000
DTSTAMP:20260425T214338
CREATED:20250318T160525Z
LAST-MODIFIED:20250318T160525Z
UID:6450-1745661600-1745665200@lebfirstbaptist.com
SUMMARY:Raven Box Food Pantry
DESCRIPTION:This is located at the Lebanon Senior Center: 10 Campbell Street in Lebanon\, NH. This is free and open to all. This is a drive-through/walk-up service. We give out one paper grocery bag of non-perishable food items per household.
URL:http://lebfirstbaptist.com/event/raven-box-food-pantry-10/
LOCATION:NH
END:VEVENT
BEGIN:VEVENT
DTSTART;TZID=America/New_York:20250424T183000
DTEND;TZID=America/New_York:20250424T203000
DTSTAMP:20260425T214338
CREATED:20250318T160145Z
LAST-MODIFIED:20250318T160145Z
UID:6438-1745519400-1745526600@lebfirstbaptist.com
SUMMARY:Small Group Bible Study
DESCRIPTION:Small Group Bible Study for Adults. Contact number: 603-738-7096
URL:http://lebfirstbaptist.com/event/small-group-bible-study-19/
LOCATION:NH
END:VEVENT
BEGIN:VEVENT
DTSTART;TZID=America/New_York:20250423T100000
DTEND;TZID=America/New_York:20250423T113000
DTSTAMP:20260425T214338
CREATED:20250421T140924Z
LAST-MODIFIED:20250421T140924Z
UID:6515-1745402400-1745407800@lebfirstbaptist.com
SUMMARY:Women's Bible Study
DESCRIPTION:Women’s Bible Study held at 11 School Street\, Lebanon\, NH
URL:http://lebfirstbaptist.com/event/womens-bible-study-8/
LOCATION:NH
END:VEVENT
BEGIN:VEVENT
DTSTART;TZID=America/New_York:20250422T180000
DTEND;TZID=America/New_York:20250422T193000
DTSTAMP:20260425T214338
CREATED:20250421T140831Z
LAST-MODIFIED:20250421T140831Z
UID:6513-1745344800-1745350200@lebfirstbaptist.com
SUMMARY:Women's Bible Study
DESCRIPTION:Women’s Bible Study held at 11 School Street\, Lebanon\, Nh
URL:http://lebfirstbaptist.com/event/womens-bible-study-7/
LOCATION:NH
END:VEVENT
BEGIN:VEVENT
DTSTART;VALUE=DATE:20250420
DTEND;VALUE=DATE:20250421
DTSTAMP:20260425T214338
CREATED:20250318T160253Z
LAST-MODIFIED:20250318T160253Z
UID:6442-1745107200-1745193599@lebfirstbaptist.com
SUMMARY:Easter Sunday
DESCRIPTION:
URL:http://lebfirstbaptist.com/event/easter-sunday/
LOCATION:NH
END:VEVENT
BEGIN:VEVENT
DTSTART;VALUE=DATE:20250418
DTEND;VALUE=DATE:20250419
DTSTAMP:20260425T214338
CREATED:20250318T160224Z
LAST-MODIFIED:20250318T160224Z
UID:6440-1744934400-1745020799@lebfirstbaptist.com
SUMMARY:Good Friday
DESCRIPTION:
URL:http://lebfirstbaptist.com/event/good-friday/
LOCATION:NH
END:VEVENT
BEGIN:VEVENT
DTSTART;TZID=America/New_York:20250412T100000
DTEND;TZID=America/New_York:20250412T110000
DTSTAMP:20260425T214338
CREATED:20250318T160458Z
LAST-MODIFIED:20250318T160458Z
UID:6448-1744452000-1744455600@lebfirstbaptist.com
SUMMARY:Raven Box Food Pantry
DESCRIPTION:This is located at the Lebanon Senior Center: 10 Campbell Street in Lebanon\, NH. This is free and open to all. This is a drive-through/walk-up service. We give out one paper grocery bag of non-perishable food items per household.
URL:http://lebfirstbaptist.com/event/raven-box-food-pantry-9/
LOCATION:NH
END:VEVENT
BEGIN:VEVENT
DTSTART;TZID=America/New_York:20250410T183000
DTEND;TZID=America/New_York:20250410T203000
DTSTAMP:20260425T214338
CREATED:20250318T160114Z
LAST-MODIFIED:20250318T160114Z
UID:6436-1744309800-1744317000@lebfirstbaptist.com
SUMMARY:Small Group Bible Study
DESCRIPTION:Small Group Bible Study for Adults. Contact number: 603-738-7096
URL:http://lebfirstbaptist.com/event/small-group-bible-study-18/
LOCATION:NH
END:VEVENT
BEGIN:VEVENT
DTSTART;TZID=America/New_York:20250403T183000
DTEND;TZID=America/New_York:20250403T203000
DTSTAMP:20260425T214338
CREATED:20250318T160042Z
LAST-MODIFIED:20250318T160042Z
UID:6434-1743705000-1743712200@lebfirstbaptist.com
SUMMARY:Small Group Bible Study
DESCRIPTION:Small Group Bible Study for Adults. Contact number: 603-738-7096
URL:http://lebfirstbaptist.com/event/small-group-bible-study-17/
LOCATION:NH
END:VEVENT
BEGIN:VEVENT
DTSTART;TZID=America/New_York:20250327T183000
DTEND;TZID=America/New_York:20250327T203000
DTSTAMP:20260425T214338
CREATED:20250318T155954Z
LAST-MODIFIED:20250318T155954Z
UID:6432-1743100200-1743107400@lebfirstbaptist.com
SUMMARY:Small Group Bible Study
DESCRIPTION:Small Group Bible Study for Adults. Contact number: 603-738-7096
URL:http://lebfirstbaptist.com/event/small-group-bible-study-16/
LOCATION:NH
END:VEVENT
BEGIN:VEVENT
DTSTART;TZID=America/New_York:20250322T100000
DTEND;TZID=America/New_York:20250322T110000
DTSTAMP:20260425T214338
CREATED:20250318T160432Z
LAST-MODIFIED:20250318T160432Z
UID:6446-1742637600-1742641200@lebfirstbaptist.com
SUMMARY:Raven Box Food Pantry
DESCRIPTION:This is located at the Lebanon Senior Center: 10 Campbell Street in Lebanon\, NH. This is free and open to all. This is a drive-through/walk-up service. We give out one paper grocery bag of non-perishable food items per household.
URL:http://lebfirstbaptist.com/event/raven-box-food-pantry-8/
LOCATION:NH
END:VEVENT
BEGIN:VEVENT
DTSTART;TZID=America/New_York:20250320T183000
DTEND;TZID=America/New_York:20250320T203000
DTSTAMP:20260425T214338
CREATED:20250318T155928Z
LAST-MODIFIED:20250318T155928Z
UID:6430-1742495400-1742502600@lebfirstbaptist.com
SUMMARY:Small Group Bible Study
DESCRIPTION:Small Group Bible Study for Adults. Contact number: 603-738-7096
URL:http://lebfirstbaptist.com/event/small-group-bible-study-15/
LOCATION:NH
END:VEVENT
BEGIN:VEVENT
DTSTART;TZID=America/New_York:20250313T183000
DTEND;TZID=America/New_York:20250313T203000
DTSTAMP:20260425T214338
CREATED:20250318T155901Z
LAST-MODIFIED:20250318T155901Z
UID:6428-1741890600-1741897800@lebfirstbaptist.com
SUMMARY:Small Group Bible Study
DESCRIPTION:Small Group Bible Study for Adults. Contact number: 603-738-7096
URL:http://lebfirstbaptist.com/event/small-group-bible-study-14/
LOCATION:NH
END:VEVENT
BEGIN:VEVENT
DTSTART;TZID=America/New_York:20250308T100000
DTEND;TZID=America/New_York:20250308T110000
DTSTAMP:20260425T214338
CREATED:20250318T160408Z
LAST-MODIFIED:20250318T160408Z
UID:6444-1741428000-1741431600@lebfirstbaptist.com
SUMMARY:Raven Box Food Pantry
DESCRIPTION:This is located at the Lebanon Senior Center: 10 Campbell Street in Lebanon\, NH. This is free and open to all. This is a drive-through/walk-up service. We give out one paper grocery bag of non-perishable food items per household.
URL:http://lebfirstbaptist.com/event/raven-box-food-pantry-7/
LOCATION:NH
END:VEVENT
BEGIN:VEVENT
DTSTART;TZID=America/New_York:20250306T183000
DTEND;TZID=America/New_York:20250306T203000
DTSTAMP:20260425T214338
CREATED:20250318T155828Z
LAST-MODIFIED:20250318T155828Z
UID:6426-1741285800-1741293000@lebfirstbaptist.com
SUMMARY:Small Group Bible Study
DESCRIPTION:Small Group Bible Study for Adults. Contact number: 603-738-7096
URL:http://lebfirstbaptist.com/event/small-group-bible-study-13/
LOCATION:NH
END:VEVENT
BEGIN:VEVENT
DTSTART;TZID=America/New_York:20250227T183000
DTEND;TZID=America/New_York:20250227T203000
DTSTAMP:20260425T214338
CREATED:20250122T162545Z
LAST-MODIFIED:20250122T162545Z
UID:6419-1740681000-1740688200@lebfirstbaptist.com
SUMMARY:Small Group Bible Study
DESCRIPTION:Small Group Bible Study for Adults. Contact number: 603-738-7096
URL:http://lebfirstbaptist.com/event/small-group-bible-study-12/
LOCATION:NH
END:VEVENT
BEGIN:VEVENT
DTSTART;TZID=America/New_York:20250222T100000
DTEND;TZID=America/New_York:20250222T110000
DTSTAMP:20260425T214338
CREATED:20250122T162731Z
LAST-MODIFIED:20250122T162731Z
UID:6423-1740218400-1740222000@lebfirstbaptist.com
SUMMARY:Raven Box Food Pantry
DESCRIPTION:This is located at the Lebanon Senior Center: 10 Campbell Street in Lebanon\, NH. This is free and open to all. This is a drive-through/walk-up service. We give out one paper grocery bag of non-perishable food items per household.
URL:http://lebfirstbaptist.com/event/raven-box-food-pantry-6/
LOCATION:NH
END:VEVENT
BEGIN:VEVENT
DTSTART;TZID=America/New_York:20250220T183000
DTEND;TZID=America/New_York:20250220T203000
DTSTAMP:20260425T214338
CREATED:20250122T162517Z
LAST-MODIFIED:20250122T162517Z
UID:6417-1740076200-1740083400@lebfirstbaptist.com
SUMMARY:Small Group Bible Study
DESCRIPTION:Small Group Bible Study for Adults. Contact number: 603-738-7096
URL:http://lebfirstbaptist.com/event/small-group-bible-study-11/
LOCATION:NH
END:VEVENT
END:VCALENDAR