BEGIN:VCALENDAR
VERSION:2.0
PRODID:-//First Baptist Church - ECPv6.15.5//NONSGML v1.0//EN
CALSCALE:GREGORIAN
METHOD:PUBLISH
X-ORIGINAL-URL:http://lebfirstbaptist.com
X-WR-CALDESC:Events for First Baptist Church
REFRESH-INTERVAL;VALUE=DURATION:PT1H
X-Robots-Tag:noindex
X-PUBLISHED-TTL:PT1H
BEGIN:VTIMEZONE
TZID:America/New_York
BEGIN:DAYLIGHT
TZOFFSETFROM:-0500
TZOFFSETTO:-0400
TZNAME:EDT
DTSTART:20260308T070000
END:DAYLIGHT
BEGIN:STANDARD
TZOFFSETFROM:-0400
TZOFFSETTO:-0500
TZNAME:EST
DTSTART:20261101T060000
END:STANDARD
END:VTIMEZONE
BEGIN:VEVENT
DTSTART;TZID=America/New_York:20260326T173000
DTEND;TZID=America/New_York:20260326T190000
DTSTAMP:20260424T012906
CREATED:20260226T172517Z
LAST-MODIFIED:20260226T172517Z
UID:7219-1774546200-1774551600@lebfirstbaptist.com
SUMMARY:Millennial Small Group
DESCRIPTION:Small Group Meetings for Millennials. Contact Church Office for details: 603-448-5618
URL:http://lebfirstbaptist.com/event/millennial-small-group-31/
LOCATION:First Baptist Church of Lebanon\, 11 School Street\, Lebanon\, NH\, 03766\, United States
END:VEVENT
BEGIN:VEVENT
DTSTART;TZID=America/New_York:20260326T183000
DTEND;TZID=America/New_York:20260326T200000
DTSTAMP:20260424T012906
CREATED:20260226T172757Z
LAST-MODIFIED:20260226T172757Z
UID:7227-1774549800-1774555200@lebfirstbaptist.com
SUMMARY:Small Group Bible Study
DESCRIPTION:Small Group Bible Study for Adults hosted by Roger & Betsy Wotton. Contact Phone: 603-738-7096
URL:http://lebfirstbaptist.com/event/small-group-bible-study-78/
LOCATION:NH
END:VEVENT
BEGIN:VEVENT
DTSTART;TZID=America/New_York:20260326T190000
DTEND;TZID=America/New_York:20260326T203000
DTSTAMP:20260424T012906
CREATED:20260226T173056Z
LAST-MODIFIED:20260226T173056Z
UID:7235-1774551600-1774557000@lebfirstbaptist.com
SUMMARY:Small Group Bible Study
DESCRIPTION:Small Group Bible Study for Adults hosted by Rick & Anne Pinilla. Contact Phone: 603-306-5570
URL:http://lebfirstbaptist.com/event/small-group-bible-study-81/
LOCATION:NH
END:VEVENT
END:VCALENDAR