BEGIN:VCALENDAR
VERSION:2.0
PRODID:-//First Baptist Church - ECPv6.15.5//NONSGML v1.0//EN
CALSCALE:GREGORIAN
METHOD:PUBLISH
X-ORIGINAL-URL:http://lebfirstbaptist.com
X-WR-CALDESC:Events for First Baptist Church
REFRESH-INTERVAL;VALUE=DURATION:PT1H
X-Robots-Tag:noindex
X-PUBLISHED-TTL:PT1H
BEGIN:VTIMEZONE
TZID:America/New_York
BEGIN:DAYLIGHT
TZOFFSETFROM:-0500
TZOFFSETTO:-0400
TZNAME:EDT
DTSTART:20260308T070000
END:DAYLIGHT
BEGIN:STANDARD
TZOFFSETFROM:-0400
TZOFFSETTO:-0500
TZNAME:EST
DTSTART:20261101T060000
END:STANDARD
END:VTIMEZONE
BEGIN:VEVENT
DTSTART;TZID=America/New_York:20260118T090000
DTEND;TZID=America/New_York:20260118T100000
DTSTAMP:20260424T064935
CREATED:20251217T151233Z
LAST-MODIFIED:20251217T151233Z
UID:7008-1768726800-1768730400@lebfirstbaptist.com
SUMMARY:Adult Sunday School
DESCRIPTION:
URL:http://lebfirstbaptist.com/event/adult-sunday-school-3/
LOCATION:First Baptist Church of Lebanon\, 11 School Street\, Lebanon\, NH\, 03766\, United States
END:VEVENT
BEGIN:VEVENT
DTSTART;TZID=America/New_York:20260118T103000
DTEND;TZID=America/New_York:20260118T120000
DTSTAMP:20260424T064935
CREATED:20251217T154552Z
LAST-MODIFIED:20251217T154552Z
UID:7016-1768732200-1768737600@lebfirstbaptist.com
SUMMARY:Worship Service
DESCRIPTION:
URL:http://lebfirstbaptist.com/event/worship-service-31/
LOCATION:First Baptist Church of Lebanon\, 11 School Street\, Lebanon\, NH\, 03766\, United States
END:VEVENT
BEGIN:VEVENT
DTSTART;TZID=America/New_York:20260118T170000
DTEND;TZID=America/New_York:20260118T181500
DTSTAMP:20260424T064935
CREATED:20251217T155348Z
LAST-MODIFIED:20251217T155348Z
UID:7020-1768755600-1768760100@lebfirstbaptist.com
SUMMARY:Community Dinner
DESCRIPTION:To Go Community Dinners are served the third Sunday of each month. You may stay and eat at the church if you would like. Held at 11 School Street in Lebanon\, NH.
URL:http://lebfirstbaptist.com/event/community-dinner-11/
LOCATION:First Baptist Church of Lebanon\, 11 School Street\, Lebanon\, NH\, 03766\, United States
END:VEVENT
END:VCALENDAR