BEGIN:VCALENDAR
VERSION:2.0
PRODID:-//First Baptist Church - ECPv6.15.5//NONSGML v1.0//EN
CALSCALE:GREGORIAN
METHOD:PUBLISH
X-WR-CALNAME:First Baptist Church
X-ORIGINAL-URL:http://lebfirstbaptist.com
X-WR-CALDESC:Events for First Baptist Church
REFRESH-INTERVAL;VALUE=DURATION:PT1H
X-Robots-Tag:noindex
X-PUBLISHED-TTL:PT1H
BEGIN:VTIMEZONE
TZID:America/New_York
BEGIN:DAYLIGHT
TZOFFSETFROM:-0500
TZOFFSETTO:-0400
TZNAME:EDT
DTSTART:20260308T070000
END:DAYLIGHT
BEGIN:STANDARD
TZOFFSETFROM:-0400
TZOFFSETTO:-0500
TZNAME:EST
DTSTART:20261101T060000
END:STANDARD
END:VTIMEZONE
BEGIN:VEVENT
DTSTART;TZID=America/New_York:20260108T173000
DTEND;TZID=America/New_York:20260108T190000
DTSTAMP:20260424T041838
CREATED:20251217T160138Z
LAST-MODIFIED:20251217T160138Z
UID:7043-1767893400-1767898800@lebfirstbaptist.com
SUMMARY:Millennial Small Group
DESCRIPTION:Small Group Meetings for Millennials. Contact Church Office for details: 603-448-5618
URL:http://lebfirstbaptist.com/event/millennial-small-group-20/
LOCATION:First Baptist Church of Lebanon\, 11 School Street\, Lebanon\, NH\, 03766\, United States
END:VEVENT
BEGIN:VEVENT
DTSTART;TZID=America/New_York:20260108T183000
DTEND;TZID=America/New_York:20260108T203000
DTSTAMP:20260424T041838
CREATED:20251217T160414Z
LAST-MODIFIED:20251217T160414Z
UID:7051-1767897000-1767904200@lebfirstbaptist.com
SUMMARY:Small Group Bible Study
DESCRIPTION:Small Group Bible Study for Adults hosted by Roger & Betsy Wotton. Contact Phone: 603-738-7096
URL:http://lebfirstbaptist.com/event/small-group-bible-study-59/
LOCATION:NH
END:VEVENT
BEGIN:VEVENT
DTSTART;TZID=America/New_York:20260108T190000
DTEND;TZID=America/New_York:20260108T203000
DTSTAMP:20260424T041838
CREATED:20251217T160713Z
LAST-MODIFIED:20251217T160713Z
UID:7059-1767898800-1767904200@lebfirstbaptist.com
SUMMARY:Small Group Bible Study
DESCRIPTION:Small Group Bible Study for Adults hosted by Rick & Anne Pinilla. Contact Phone: 603-306-5570
URL:http://lebfirstbaptist.com/event/small-group-bible-study-63/
LOCATION:NH
END:VEVENT
END:VCALENDAR