BEGIN:VCALENDAR
VERSION:2.0
PRODID:-//First Baptist Church - ECPv6.15.5//NONSGML v1.0//EN
CALSCALE:GREGORIAN
METHOD:PUBLISH
X-WR-CALNAME:First Baptist Church
X-ORIGINAL-URL:http://lebfirstbaptist.com
X-WR-CALDESC:Events for First Baptist Church
REFRESH-INTERVAL;VALUE=DURATION:PT1H
X-Robots-Tag:noindex
X-PUBLISHED-TTL:PT1H
BEGIN:VTIMEZONE
TZID:America/New_York
BEGIN:DAYLIGHT
TZOFFSETFROM:-0500
TZOFFSETTO:-0400
TZNAME:EDT
DTSTART:20250309T070000
END:DAYLIGHT
BEGIN:STANDARD
TZOFFSETFROM:-0400
TZOFFSETTO:-0500
TZNAME:EST
DTSTART:20251102T060000
END:STANDARD
END:VTIMEZONE
BEGIN:VEVENT
DTSTART;TZID=America/New_York:20251123T084500
DTEND;TZID=America/New_York:20251123T100000
DTSTAMP:20260425T110912
CREATED:20251022T161441Z
LAST-MODIFIED:20251022T161441Z
UID:6843-1763887500-1763892000@lebfirstbaptist.com
SUMMARY:Adult Sunday School - Bible & Breakfast
DESCRIPTION:Ecclesiastes entitled\, “A Realist’s Guide to Joy.”
URL:http://lebfirstbaptist.com/event/adult-sunday-school-bible-breakfast-8/
LOCATION:First Baptist Church of Lebanon\, 11 School Street\, Lebanon\, NH\, 03766\, United States
END:VEVENT
BEGIN:VEVENT
DTSTART;TZID=America/New_York:20251123T103000
DTEND;TZID=America/New_York:20251123T120000
DTSTAMP:20260425T110912
CREATED:20251022T161911Z
LAST-MODIFIED:20251022T161911Z
UID:6853-1763893800-1763899200@lebfirstbaptist.com
SUMMARY:Worship Service
DESCRIPTION:
URL:http://lebfirstbaptist.com/event/worship-service-25/
LOCATION:First Baptist Church of Lebanon\, 11 School Street\, Lebanon\, NH\, 03766\, United States
END:VEVENT
BEGIN:VEVENT
DTSTART;TZID=America/New_York:20251123T120000
DTEND;TZID=America/New_York:20251123T130000
DTSTAMP:20260425T110912
CREATED:20251022T162448Z
LAST-MODIFIED:20251022T162448Z
UID:6859-1763899200-1763902800@lebfirstbaptist.com
SUMMARY:Thanksgiving Pie Social
DESCRIPTION:Please join us after Worship on Thanksgiving Sunday for some Thanksgiving pie.
URL:http://lebfirstbaptist.com/event/thanksgiving-pie-social/
LOCATION:First Baptist Church of Lebanon\, 11 School Street\, Lebanon\, NH\, 03766\, United States
END:VEVENT
END:VCALENDAR