BEGIN:VCALENDAR
VERSION:2.0
PRODID:-//First Baptist Church - ECPv6.15.5//NONSGML v1.0//EN
CALSCALE:GREGORIAN
METHOD:PUBLISH
X-WR-CALNAME:First Baptist Church
X-ORIGINAL-URL:http://lebfirstbaptist.com
X-WR-CALDESC:Events for First Baptist Church
REFRESH-INTERVAL;VALUE=DURATION:PT1H
X-Robots-Tag:noindex
X-PUBLISHED-TTL:PT1H
BEGIN:VTIMEZONE
TZID:America/New_York
BEGIN:DAYLIGHT
TZOFFSETFROM:-0500
TZOFFSETTO:-0400
TZNAME:EDT
DTSTART:20250309T070000
END:DAYLIGHT
BEGIN:STANDARD
TZOFFSETFROM:-0400
TZOFFSETTO:-0500
TZNAME:EST
DTSTART:20251102T060000
END:STANDARD
END:VTIMEZONE
BEGIN:VEVENT
DTSTART;TZID=America/New_York:20251116T084500
DTEND;TZID=America/New_York:20251116T100000
DTSTAMP:20260425T091958
CREATED:20251022T152539Z
LAST-MODIFIED:20251022T152539Z
UID:6841-1763282700-1763287200@lebfirstbaptist.com
SUMMARY:Adult Sunday School - Bible & Breakfast
DESCRIPTION:Ecclesiastes entitled\, “A Realist’s Guide to Joy.”
URL:http://lebfirstbaptist.com/event/adult-sunday-school-bible-breakfast-7/
LOCATION:First Baptist Church of Lebanon\, 11 School Street\, Lebanon\, NH\, 03766\, United States
END:VEVENT
BEGIN:VEVENT
DTSTART;TZID=America/New_York:20251116T103000
DTEND;TZID=America/New_York:20251116T120000
DTSTAMP:20260425T091958
CREATED:20251022T161824Z
LAST-MODIFIED:20251022T161824Z
UID:6851-1763289000-1763294400@lebfirstbaptist.com
SUMMARY:Worship Service
DESCRIPTION:
URL:http://lebfirstbaptist.com/event/worship-service-24/
LOCATION:First Baptist Church of Lebanon\, 11 School Street\, Lebanon\, NH\, 03766\, United States
END:VEVENT
BEGIN:VEVENT
DTSTART;TZID=America/New_York:20251116T170000
DTEND;TZID=America/New_York:20251116T181500
DTSTAMP:20260425T091958
CREATED:20251022T162401Z
LAST-MODIFIED:20251022T162401Z
UID:6857-1763312400-1763316900@lebfirstbaptist.com
SUMMARY:Community Dinner
DESCRIPTION:To Go Community Dinners are served the third Sunday of each month. You may stay and eat at the church if you would like. Held at 11 School Street in Lebanon\, NH.
URL:http://lebfirstbaptist.com/event/community-dinner-9/
LOCATION:First Baptist Church of Lebanon\, 11 School Street\, Lebanon\, NH\, 03766\, United States
END:VEVENT
END:VCALENDAR