BEGIN:VCALENDAR
VERSION:2.0
PRODID:-//First Baptist Church - ECPv6.15.5//NONSGML v1.0//EN
CALSCALE:GREGORIAN
METHOD:PUBLISH
X-ORIGINAL-URL:http://lebfirstbaptist.com
X-WR-CALDESC:Events for First Baptist Church
REFRESH-INTERVAL;VALUE=DURATION:PT1H
X-Robots-Tag:noindex
X-PUBLISHED-TTL:PT1H
BEGIN:VTIMEZONE
TZID:America/New_York
BEGIN:DAYLIGHT
TZOFFSETFROM:-0500
TZOFFSETTO:-0400
TZNAME:EDT
DTSTART:20250309T070000
END:DAYLIGHT
BEGIN:STANDARD
TZOFFSETFROM:-0400
TZOFFSETTO:-0500
TZNAME:EST
DTSTART:20251102T060000
END:STANDARD
END:VTIMEZONE
BEGIN:VEVENT
DTSTART;TZID=America/New_York:20251018T120000
DTEND;TZID=America/New_York:20251018T140000
DTSTAMP:20260424T171856
CREATED:20250924T161715Z
LAST-MODIFIED:20250924T161715Z
UID:6810-1760788800-1760796000@lebfirstbaptist.com
SUMMARY:Fall Family Fun Festival
DESCRIPTION:This free event open to all is held at Colburn Park in Lebanon\, NH. Join us for games\, food\, face painting\, pumpkin carving\, and more!
URL:http://lebfirstbaptist.com/event/fall-family-fun-festival/
LOCATION:NH
END:VEVENT
END:VCALENDAR